Package: HMP2Data Version: 1.22.0 Command: /home/biocbuild/bbs-3.21-bioc/R/bin/R CMD build --keep-empty-dirs --no-resave-data HMP2Data StartedAt: 2025-10-09 11:23:00 -0400 (Thu, 09 Oct 2025) EndedAt: 2025-10-09 11:24:13 -0400 (Thu, 09 Oct 2025) EllapsedTime: 72.7 seconds RetCode: 0 Status: OK PackageFile: HMP2Data_1.22.0.tar.gz PackageFileSize: 5.147 MiB