Package: HIVcDNAvantWout03 Version: 1.48.0 Maintainer: Chris Fraley MaintainerEmail: fraley at stat.washington.edu git_url: https://git.bioconductor.org/packages/HIVcDNAvantWout03 git_branch: RELEASE_3_21 git_last_commit: d317f0a git_last_commit_date: 2025-04-15 09:14:05 -0400 (Tue, 15 Apr 2025)