Package: GSE159526 Version: 1.13.0 Command: /home/biocbuild/bbs-3.21-bioc/R/bin/R CMD INSTALL GSE159526 StartedAt: 2025-01-30 10:55:37 -0500 (Thu, 30 Jan 2025) EndedAt: 2025-01-30 10:55:38 -0500 (Thu, 30 Jan 2025) EllapsedTime: 1.6 seconds RetCode: 0 Status: OK