Package: GSE159526 Version: 1.13.0 Command: /home/biocbuild/bbs-3.21-bioc/R/bin/R CMD build --keep-empty-dirs --no-resave-data GSE159526 StartedAt: 2025-01-30 11:20:08 -0500 (Thu, 30 Jan 2025) EndedAt: 2025-01-30 11:20:13 -0500 (Thu, 30 Jan 2025) EllapsedTime: 4.6 seconds RetCode: 0 Status: OK PackageFile: GSE159526_1.13.0.tar.gz PackageFileSize: 296.9 KiB