Package: Fletcher2013b Version: 1.43.0 Command: /home/biocbuild/bbs-3.21-bioc/R/bin/R CMD INSTALL Fletcher2013b StartedAt: 2025-01-30 11:03:50 -0500 (Thu, 30 Jan 2025) EndedAt: 2025-01-30 11:04:17 -0500 (Thu, 30 Jan 2025) EllapsedTime: 26.8 seconds RetCode: 0 Status: OK