Package: FIs Version: 1.36.0 Command: /home/biocbuild/bbs-3.21-bioc/R/bin/R CMD INSTALL FIs StartedAt: 2025-10-07 10:55:48 -0400 (Tue, 07 Oct 2025) EndedAt: 2025-10-07 10:55:50 -0400 (Tue, 07 Oct 2025) EllapsedTime: 1.5 seconds RetCode: 0 Status: OK