Package: FIs Version: 1.36.0 Command: /home/biocbuild/bbs-3.21-bioc/R/bin/R CMD build --keep-empty-dirs --no-resave-data FIs StartedAt: 2025-10-07 11:16:03 -0400 (Tue, 07 Oct 2025) EndedAt: 2025-10-07 11:16:04 -0400 (Tue, 07 Oct 2025) EllapsedTime: 1.0 seconds RetCode: 0 Status: OK PackageFile: FIs_1.36.0.tar.gz PackageFileSize: 622.9 KiB