Package: DeSousa2013 Version: 1.43.0 Command: /home/biocbuild/bbs-3.21-bioc/R/bin/R CMD INSTALL DeSousa2013 StartedAt: 2025-01-30 11:00:22 -0500 (Thu, 30 Jan 2025) EndedAt: 2025-01-30 11:00:23 -0500 (Thu, 30 Jan 2025) EllapsedTime: 1.0 seconds RetCode: 1 Status: ERROR