Package: DeSousa2013 Version: 1.43.0 Command: /home/biocbuild/bbs-3.21-bioc/R/bin/R CMD build --keep-empty-dirs --no-resave-data DeSousa2013 StartedAt: 2025-02-06 11:14:28 -0500 (Thu, 06 Feb 2025) EndedAt: 2025-02-06 11:14:29 -0500 (Thu, 06 Feb 2025) EllapsedTime: 1.0 seconds RetCode: 1 Status: ERROR PackageFile: None PackageFileSize: NA