Package: DExMAdata Version: 1.15.0 Command: /home/biocbuild/bbs-3.21-bioc/R/bin/R CMD INSTALL DExMAdata StartedAt: 2025-01-30 10:56:13 -0500 (Thu, 30 Jan 2025) EndedAt: 2025-01-30 10:57:09 -0500 (Thu, 30 Jan 2025) EllapsedTime: 55.9 seconds RetCode: 0 Status: OK