Package: CytoMethIC Version: 1.4.0 Command: /home/biocbuild/bbs-3.21-bioc/R/bin/R CMD build --keep-empty-dirs --no-resave-data CytoMethIC StartedAt: 2025-10-02 11:12:11 -0400 (Thu, 02 Oct 2025) EndedAt: 2025-10-02 11:13:48 -0400 (Thu, 02 Oct 2025) EllapsedTime: 96.5 seconds RetCode: 0 Status: OK PackageFile: CytoMethIC_1.4.0.tar.gz PackageFileSize: 6.485 MiB