Package: CRCL18 Version: 1.27.0 Command: /home/biocbuild/bbs-3.21-bioc/R/bin/R CMD INSTALL CRCL18 StartedAt: 2025-02-06 10:56:32 -0500 (Thu, 06 Feb 2025) EndedAt: 2025-02-06 10:56:34 -0500 (Thu, 06 Feb 2025) EllapsedTime: 2.9 seconds RetCode: 0 Status: OK