Package: CRCL18 Version: 1.27.0 Command: /home/biocbuild/bbs-3.21-bioc/R/bin/R CMD build --keep-empty-dirs --no-resave-data CRCL18 StartedAt: 2025-02-06 11:11:11 -0500 (Thu, 06 Feb 2025) EndedAt: 2025-02-06 11:11:17 -0500 (Thu, 06 Feb 2025) EllapsedTime: 6.0 seconds RetCode: 0 Status: OK PackageFile: CRCL18_1.27.0.tar.gz PackageFileSize: 2.461 MiB