Package: CLLmethylation Version: 1.28.0 Command: /home/biocbuild/bbs-3.21-bioc/R/bin/R CMD INSTALL CLLmethylation StartedAt: 2025-10-02 11:00:55 -0400 (Thu, 02 Oct 2025) EndedAt: 2025-10-02 11:01:13 -0400 (Thu, 02 Oct 2025) EllapsedTime: 17.5 seconds RetCode: 0 Status: OK