Package: CLLmethylation Version: 1.28.0 Command: /home/biocbuild/bbs-3.21-bioc/R/bin/R CMD build --keep-empty-dirs --no-resave-data CLLmethylation StartedAt: 2025-10-02 11:08:58 -0400 (Thu, 02 Oct 2025) EndedAt: 2025-10-02 11:10:03 -0400 (Thu, 02 Oct 2025) EllapsedTime: 65.4 seconds RetCode: 0 Status: OK PackageFile: CLLmethylation_1.28.0.tar.gz PackageFileSize: 362 KiB