Package: CLL Version: 1.48.0 Command: /home/biocbuild/bbs-3.21-bioc/R/bin/R CMD build --keep-empty-dirs --no-resave-data CLL StartedAt: 2025-05-27 11:08:38 -0400 (Tue, 27 May 2025) EndedAt: 2025-05-27 11:08:42 -0400 (Tue, 27 May 2025) EllapsedTime: 4.0 seconds RetCode: 0 Status: OK PackageFile: CLL_1.48.0.tar.gz PackageFileSize: 15.89 MiB