Package: BioPlex Version: 1.13.0 Command: /home/biocbuild/bbs-3.21-bioc/R/bin/R CMD INSTALL BioPlex StartedAt: 2025-01-30 10:58:41 -0500 (Thu, 30 Jan 2025) EndedAt: 2025-01-30 10:59:00 -0500 (Thu, 30 Jan 2025) EllapsedTime: 19.3 seconds RetCode: 0 Status: OK