Package: BioPlex Version: 1.13.0 Command: /home/biocbuild/bbs-3.21-bioc/R/bin/R CMD check --install=check:BioPlex.install-out.txt --library=/home/biocbuild/bbs-3.21-bioc/R/site-library --timings BioPlex_1.13.0.tar.gz StartedAt: 2025-01-30 11:47:47 -0500 (Thu, 30 Jan 2025) EndedAt: 2025-01-30 11:54:06 -0500 (Thu, 30 Jan 2025) EllapsedTime: 378.9 seconds RetCode: 0 Status: OK CheckDir: BioPlex.Rcheck Warnings: 0