Package: BioPlex Version: 1.13.0 Command: /home/biocbuild/bbs-3.21-bioc/R/bin/R CMD build --keep-empty-dirs --no-resave-data BioPlex StartedAt: 2025-01-30 11:07:49 -0500 (Thu, 30 Jan 2025) EndedAt: 2025-01-30 11:10:40 -0500 (Thu, 30 Jan 2025) EllapsedTime: 170.9 seconds RetCode: 0 Status: OK PackageFile: BioPlex_1.13.0.tar.gz PackageFileSize: 928.2 KiB