Package: BioImageDbs Version: 1.16.0 Command: /home/biocbuild/bbs-3.21-bioc/R/bin/R CMD INSTALL BioImageDbs StartedAt: 2025-07-15 10:57:51 -0400 (Tue, 15 Jul 2025) EndedAt: 2025-07-15 10:57:53 -0400 (Tue, 15 Jul 2025) EllapsedTime: 2.0 seconds RetCode: 0 Status: OK