Package: BioImageDbs Version: 1.15.0 Command: /home/biocbuild/bbs-3.21-bioc/R/bin/R CMD build --keep-empty-dirs --no-resave-data BioImageDbs StartedAt: 2025-01-30 11:07:46 -0500 (Thu, 30 Jan 2025) EndedAt: 2025-01-30 11:11:15 -0500 (Thu, 30 Jan 2025) EllapsedTime: 208.9 seconds RetCode: 0 Status: OK PackageFile: BioImageDbs_1.15.0.tar.gz PackageFileSize: 44.22 MiB