Package: AneuFinderData Version: 1.36.0 Command: /home/biocbuild/bbs-3.21-bioc/R/bin/R CMD build --keep-empty-dirs --no-resave-data AneuFinderData StartedAt: 2025-05-15 11:06:07 -0400 (Thu, 15 May 2025) EndedAt: 2025-05-15 11:06:12 -0400 (Thu, 15 May 2025) EllapsedTime: 5.3 seconds RetCode: 0 Status: OK PackageFile: AneuFinderData_1.36.0.tar.gz PackageFileSize: 57.02 MiB