Package: Affymoe4302Expr Version: 1.45.0 Command: /home/biocbuild/bbs-3.21-bioc/R/bin/R CMD check --install=check:Affymoe4302Expr.install-out.txt --library=/home/biocbuild/bbs-3.21-bioc/R/site-library --timings Affymoe4302Expr_1.45.0.tar.gz StartedAt: 2025-01-30 11:47:17 -0500 (Thu, 30 Jan 2025) EndedAt: 2025-01-30 11:47:47 -0500 (Thu, 30 Jan 2025) EllapsedTime: 29.8 seconds RetCode: 0 Status: OK CheckDir: Affymoe4302Expr.Rcheck Warnings: 0