Package: synaptome.db Version: 0.99.16 Command: /home/biocbuild/bbs-3.21-bioc/R/bin/R CMD INSTALL synaptome.db StartedAt: 2025-04-30 06:30:23 -0400 (Wed, 30 Apr 2025) EndedAt: 2025-04-30 06:30:50 -0400 (Wed, 30 Apr 2025) EllapsedTime: 26.3 seconds RetCode: 0 Status: OK