Package: synaptome.db Version: 0.99.16 Command: /home/biocbuild/bbs-3.21-bioc/R/bin/R CMD build --keep-empty-dirs --no-resave-data synaptome.db StartedAt: 2025-04-30 06:32:17 -0400 (Wed, 30 Apr 2025) EndedAt: 2025-04-30 06:33:18 -0400 (Wed, 30 Apr 2025) EllapsedTime: 61.2 seconds RetCode: 0 Status: OK PackageFile: synaptome.db_0.99.16.tar.gz PackageFileSize: 318.1 KiB