Package: synaptome.data Version: 0.99.6 Command: /home/biocbuild/bbs-3.21-bioc/R/bin/R CMD check --install=check:synaptome.data.install-out.txt --library=/home/biocbuild/bbs-3.21-bioc/R/site-library --timings synaptome.data_0.99.6.tar.gz StartedAt: 2025-02-19 06:35:18 -0500 (Wed, 19 Feb 2025) EndedAt: 2025-02-19 06:36:43 -0500 (Wed, 19 Feb 2025) EllapsedTime: 85.2 seconds RetCode: 0 Status: OK CheckDir: synaptome.data.Rcheck Warnings: 0