Package: synaptome.data Version: 0.99.6 Command: /home/biocbuild/bbs-3.21-bioc/R/bin/R CMD build --keep-empty-dirs --no-resave-data synaptome.data StartedAt: 2025-02-19 06:32:40 -0500 (Wed, 19 Feb 2025) EndedAt: 2025-02-19 06:32:56 -0500 (Wed, 19 Feb 2025) EllapsedTime: 16.3 seconds RetCode: 0 Status: OK PackageFile: synaptome.data_0.99.6.tar.gz PackageFileSize: 302.6 KiB