Package: scAnnotatR.models Version: 0.99.10 Command: /home/biocbuild/bbs-3.21-bioc/R/bin/R CMD build --keep-empty-dirs --no-resave-data scAnnotatR.models StartedAt: 2025-02-12 06:32:14 -0500 (Wed, 12 Feb 2025) EndedAt: 2025-02-12 06:33:03 -0500 (Wed, 12 Feb 2025) EllapsedTime: 48.4 seconds RetCode: 0 Status: OK PackageFile: scAnnotatR.models_0.99.10.tar.gz PackageFileSize: 13.13 KiB