]vJ>558s@XYvrҧgfya,Fd1cIfWA!@ e;޵Ή UԽvơSjG'RDž%%|WA %uJ։6ԮRFGzɓmTz0LSt7&5M\:[9ޞ= 7sLT^dE3+kSnm2vն4iV|k\S:4tvF5vUlJ2Qo[4uZVmG[.-c; g vÂ7m~]^$' x4.kyGEbx3&\XeIfKFY]4’Ք;9fu䍝|ʻMwls&uwW_tJ*6e5g=pJfi5ʂG_G(P~v^8=Zfv4sИ(1CIfC^U,Vڄy(PaAEwJA;dHoiO'Ѻ4yoj}lnNMcF.}nV(k:f.kS8 ] fDm Yg?478,uIOa,lK]Ô¦wX}_.PGn|=%S263TX$ u႒B~HMIf\ЅQ<:O>Jrl 12b]xmlc HήskaL31=y;%o.`ƧtL'rviK( Ӭhid<2Wae2`|/8 h051ff霉$d70niC}z>KBv|Hi)v#2{Kug0B8f Kҕd(T (DUvW F~ /^,COO71|vCM :ֿ8O/|`HZ[cVMYQI tVIDRnoo_͚i.P*[,ه/_Uq-GjnJ%q ޖ<}mn8d9=m+9iߟ̼k{=dnhvI5͌]>"[5gܖ\cJ=)rͯB POY3ɺt޾s&c4@3z`5 k(ļ$FTtu#h;Ib"SrȰŠ%>_Ȟq?q2h3p'U').|@mZ?-V撵E{,K .cUxV`~fjYaQL Ln#jrU@c n,`w½.a!ҧ$>;G۹~o8R`dXЉABIv5ъE Ph,V֎EVo-+,Or=(Mgt 3/wĴ ~4}<_}o}@V d+BԄ~CkWcLJe,mUO&?^ň#?#??6_&AGD/G6/esDZGS}hK}NCX\( !u")p[d>3Sځ9YzDs}NI9>'&y^8OQ`Lo>,bs8 tsͲ N '# iHC Y>ƥ $: ΕȲ婪rX\!90Ҙ,l3)o[R6b)I)cEHBImVdv +U1`y:[Kxe/C?#G3G؋G?_&?  GA'*}t2CfWj٬sPj||Un?gR~0>Z*2 8 6| [ژҡ}6vaӝdג76H-*iվQ)죺2+B>*{=T)SpVc@fS~_T;sn2'>Ȅ%-J'BÁmЦC> =k5D]r&P_Nc^ѐ7T ~s=;;]"?#?#_TupiFSrL/$ I%ON*A.ɳ"!_H!A R C `7@ݬ[Cy:VCQ[WBZV#=r'}Gɇww{τǿ6MuU_(UgU2,$>*ñK^V+#QXCjJC\xUK Ր7װ t!%{,J5Aナmn(|%ګv埻u5v:#jVj3wbyz@VY#S-#gúOiugؾ3|K52+zѹ'u>ףϟqOy`Ow?ӟc}/Һ}C%geuן7ȢGݬ ;e.YF8d_Iw ӞX S+/0[Om)_ZK(P~vO~n`8*3q b.x6a ځ!KlX{q Oe+$?-ޖ=,i&%r}p沊l'{uIGzBɚHٕޭSOvO;5[N"Ol+z\G#DPT:%%u<5HTof8<^Dlz%"^b#^TK)򺙏V/F+5ԲFUU&Qz[<m|*)0Jx|vn}BO >==5^SJNa} _{'n @;+4^ؾv#M0z&x&F8H{<n~F;'wJR~)Q4܌ʔT:>$䴄E"]z?n LQY&c%A%@ޫwY١_o~ѯ7Fz?kq:PNbI܆:$(+5EQeNPFzR]K>ŎG jfWH@%ji cRH:jQ$%->rHʗDm5?<E [FF;?YGok -d#G82 pdʣ#G823HHCp/#9𰕮*t;rѰ(l dk [l /?b ?rzՌj^c\z%t:GaGaVTդhd-hd} D,Y$ܑ2<>e2E $"={)TZ6ffZVUʮHZx/\Pl;#2'+R D^0 ! 0@Olo?{8o?=NwUά<Yel Yk"uKI{=cΓ|! 1̬{4H)so74+"@˥oKf{~{5!4\0rܜל>ߖ1>k+r3ʻٻzevy_q~k o{WF/mW 7t 8((J@EMC]ЕG}Aպ F j6=:^QfoWf?9_&+~F2Uy^&[XF$U (βy̟\=g׋W'vz) Sr= ;MoWTуn?)P9$BM_i|ck?,7;c^M6<|3ǶȜ a>}䴏>rGNi9CIﺌ YkVEy/..ӅrnзA`rrPNR;smlcWl3ZWrk|3? r7@ wџ_>U<37ٜcuŶxe?`ygNRc?ER$'MŢ0IJ8wswC*LKT {2JK{0[RIrF۽Ã'2|zuA#zF>{5$hUzТFB^AģN͘7S"Tk[(w'gDF1sVBQEVaLJخ0Za8)y2 LEzcmXn. H$dwR̅ x |bJ,?wO⓷@A!,ԓNdLs]n "?{1>;_ofPc0v?z֨$"ƾK!T6LߺT<~A)L.(QLJYZ<Ԃ$cʓMe!1Pn +b!*I1e?~'pI W+J=_԰Z cu*,_Tdi3$9Iȱn8Il Nb;&g,; 'uf~'`[D9س&ޤ+|,?.|g>S/kƦ|^#d9^ZEn/y />ZS8ϚJԝqI1%B.;K2.89;.s"ᾀ]*R8&zħ͖݂S銫`71ַҐw|,O8ݽaV$B^H[}2wջB̕+&w\ zՐ6$2xӢPf!*RT.6挼W t 믅 _~lAHB.7%nZvoy'y˟bzrLN/Y bЯ(\X͚.Hl[&._ ț[ qeo[na'p-W 6ʍPA=7'DΧ9a 5FԴLnFO5˥.^C_/y:_yyyE^d"gYm'/Eεp1=tv[zn5jz|fxl]-t"9emS}]>'+3,[L*R64ٻWKCN*3H4&쯄!1s N0d-…O0LF%Ԓ^D[=Y$c$ĥ:Zqcan}3nI6fvO6%Jn[X˥kE M/щqBL`hܶYEˤB 0$Jq$jcå5-{,] x?>ݲپ^>lR|🆴S(V~d6MڳM=nTUn85$y%I/ Yg:F/.T pgd^ !{ZMj5/^t( 4%ߠzBr;|jz._W78|#z`Fm7_Ɍ1uɞgz"(e#91o923{FCPm16(t+3zddZFE5*JzL lh^m&WVպ` T3yG2& 1iUD:" iUJiH `s5Q. αFK%EzM:]?z` {3},~䬪C[PhR?b:tǙ^+գ GO A nhjylQ!+P?SIW1]q|)\+(8䙁ŀY,aʨwr)n'?έa[.[VOXXkBZoNGk'ws$+2K-'+pH)wu''M2p3l^;0Y>YLǂK`Xp7Ɠgx%jWuSv'3*і8߮;$wDs.+n1 HqM+'E 1\.]pQNlJP+)<B]\-ތ ]M'wڃ?UZ3G_HޱU7;ͷw|x_ͳOok|3?.qM,gBox>ko=DjgXѳVy[*=T'mK+XD=-XHgE?kFؽz.yO^'?y>{C^'???2?yѧuHe.B`Bk1m8xIxR]|[%<˛\|\-gy˳Y,oy}Y޾Po0[-e<\.þA.'y<\n{9py<\.s9py<\.G7s;x7u^,*wBN{@&Hs^ yZr_KnJ__E g8ެ%ɉ<P,iE? Ǔ(9pOa ȉNv[!,05eʵX~6 |iĶЭ.\n]n>woI &Z [,[OfW5^D2|,<ɖJ ,%I:sBmMJ\E+cL>VtE#Ÿb xf-Jka o:'`V,*^-̽''6>Rg#/{ LKٷO%l\s|~`'Jv5MxΙq=tT,z0e!|ZKKT,9=gg~/a_[rUvW W~l. [Kn;c;UL-/s]}%F|rzc6/Cz#|HQLiL='\6ĚNYt|a^,P*?9I'n?Ad?Ɏ1maT֘ޯß Cm3*CE}uiٴ#~u] /βSaHXO,Bgr:J``\/sL7.n/hN#r~b?TƋEO 3'*?É]=8=Ӎ0bGc<[p B7D?Q~9V?-:v/,:"%M3r.[^05cKo1hF~_iҸ :m@ aR~dHƉvyc R%?e]3_ѳ?N_:AIR.+r-OtZ"1ucJ! 8Dh~W>B NAhPb (5 k<溸{0W&=gv1.*r|bSH3]9mTm֑O !1rق3ԅqт%f2r~5Ϗo-rzc N7l!!UpfOC2{D.rF5d|`P.+}"܀, lĮDl;G rCA6ZGnZG&FYZL*ފev9˸i ʏX G7~ Blr|HsfhRmTn'3fDoe胢?(}-:Z!žu &Vǭ#ԉzsŮ~wBZ` 6lI#_\=~5BhyaQ" ,#"S.iqfprL<N*>٨Rxǃ~XUtw:0 h ēo.Jz{^_inE$^H.mMŶ}Xʤ67fT'Qh(v5]܍.//͐ei(pߋI=Qq#F:NUB/M?1^ .x<(g\U^~zǛ~Njҥ+ cϞ}kf-ۑn.gSf';;Tf]u: qC"S;PaNT26۞\^ߩT ]DOxFy˳-=7;k{!]z>^}7x?<6uIDh'UXSbrQ = ]._ klBsU,4 +NUuA$wơjZI-7 8qǼe̛ٹ mYcv(-DZes/,b?$iM^r.1;S][$>7ƍUx) .' Wر:+J~=9,&vûDܘVǀWw{ tWuX&^tEL ڽͷ{Y̽-V+ш\/PCeO|&_zxW}=<6 +\z˞ˍcKm6}3IKfU)f˛oOd!dCնl[}#nCh٥țN}7slJ$pKiY hX}EōFlnjV,nh*1.n&>~7m00.?zԳG&i`^gTeEf{qe/"d  m?q1gd*$lm»eQƶ锒$ =k7\mo[W߯J.Xin)lBV}Ϳe4ҩxe:,7TwY-4+9 ^C:JbY_ݵjy.$Bz**,f,ItVGmk7/wmqˍkज़G*}vuچml\Lkww጗o9%b#B#q@:I"nFM L#q>X|J׶1'_ y zɴqo-PE!9JiYT/VvV*m<29RjbTxa U0asiW.~t[-\&djP'0Y&z~ѻv~y)O@xu3\y]v]I|٩iO(sG0}ߓfߠwgݫGe-oݛy}OIʾAag^ !Ӕ1]ho؞col W@>V܉v3mN|ݴ.Eryk >|l9 ooCkbTxsg A5Nzծ.mNi lmz›;ML峱M܁ &>˛+%ۋfnWS3ow宴y\,20 7ć\wF=G.l ǎ] *i޲)c^6/q$=S4e_GS1f,Fc 6roY|eKȱUbA?mL/ѹksЍS>\څ7ot{p|<3ayӽ=-ΣSVٛ6ol IiMXNY7w[vk%|i;.Qdy}Oq8ϼ{H,D Q'~,$ÿG#4˧ 3[& =2<% NjgÏ?/T ,34*.(lVFG[k//(#BjhB}`~릑ejoŏIۧ[윾l{[:}^p}]_q蝾m}?r?ޜc}돷oxwn돃?z׭?O8:}??~8}aOo?Nc<}ϭ?X$Qotq?Bdq~p^8s qjR-ʅ"˅~ci闗d̯t'][+i4z $5ng+0vǡq0*S~+sX_vۛ$|u4]l٭kk1%r9]mMe#W2vn*U?򎸼Ϥͼ(CLe ߫ Ib1ZCEdi3xa`]tRZ^ip}wÈ?m,O'x%tKavdcbkO8I6)J&MX[+oNqDG)@MG ~0 },܍ XNoփ zIrq&4]Cr^˳cX.WRHjOTX,|Fh[br.O?Y(Ξz/p]A@Vovk<ma c=$`X՛K˚T G=/lƪ sR((txջ%JO?yˡqk7 +@ +qdVV`<YC(W:6ڕO.(ftmY|KZ6h#mL_:oLz#GLcLf&ݍ&; w$;t˂WyCj*}tL_!' }ĊɊ9oW=[d7V{%x=kyUew8g=" a91ߤa0q=钏 p?r,v`Oܔx(ᗑkKNMe"\Yh+''"^Ӓ0? 0LYR@YZL ZL/{-󩂼Xnx~DH>~&XUɤ96̰֊fVQ{W}+|lz/֠]m<+ 2K,S|)2b3}VF:2ZZj]rV=X^]H۶Ks O:VG@<ݖX8Kt]?;XfiVz~|u?eύks5sk|3Z^8'*3UE3g~# w䎀;rG#{olԝWg\׳f,S`}n͍qWq7;}Vlrs?z2`3oh Q AgPG 1X'^V]ΝDf݊.q< ?+0ݠ c_f9f<L0+ /xBd;Ҋg&UUt~l\!81r4JUT0 Y%Izvӽ0)YNdY Sa7ka?)hxpM׬?#ǝ5Xi[TN^ kw'oQ j.yqK R-0iMu5u}4㯅)Ќ "qُC?K }`O"?`'۶`{9}ߵư$!0X-s#Yf=;* 4~zi1ACw$']v[D_Y8tV~z/ٮ|wR(^ zn?=W~NW?vHAҶn??H2Řj,:oH!/Ģ'NOotu&'gb.X sÎl.kT|fqϺ?+HÐly|R:z&H?|_,.TS)r^o95>Z'j'szEГDS7OVy(ۓXO|+ߵ<#Y9سUaUk|Gq!<v_[7|{`zOoTjy?.V,>>'Vo\.'FdW*D- B]V~!Kqn=dq"mʤ >hlJ%_Q,:_v_c p.dh\_KډD3O2>*n3Ճ|%SM%알'/JUT"33yn] Y?VI^m3 ~&ث\MEf|lK~fϳf~g_$0g:tnSvl5z\]cIORB}A4d͓M{!!o +y!enUzmk#17Mo_H@i%+rm㯲>G֪yǫ|3cps\ pAHNy  'l'\ sAr.7J.dS2]BjY 2ƴQAןqt-ѬWjgtޕk5q/+e$ g|"~YyԼo2V%e9%l屈^FK*u*d6ZߪkQ?R/%+僨+''d>FX$arv83x/ٜDCy9SagQxMgRҵA޽ZbJ^Fxu: XƄly#06'x{-ynh F\zM[Ϲ5-˞B5< <ɷ"?xd뚡?3R3 _|do ֯6.$/D[a}L%Jbֳt.&݌{,q\I&h&oeU|X@&J'\T7ek `M,GBO}{Hb~͐G3 ַn,֡siH6?溘bCjr\-xVb.̾n~?mojlg;h>=h~yG~y>/gpZ&0@4703f^$qK6p5:hPdB- f@/EI+<#B-x =ᜰz+n>OO¢/3^N2@<=/|"ɱhlf_~UhhwnjR9p&ȏ#7!M)ߨW95>E+˳m*g1ͳYL,yr CWKuS^Tqyf+77f5'Ԯ2Nշ_dIx5diUOzUiMڤUVD .R?{ڦZ45>x :~WXKf{ Z"IApXL#zd!7QX($Rɑ%(tB蚖$$->:GHTTG?^/Y>3dž~|W^o?{fUכ*z|/޾-5èl_G|e7i^o0Y̥;kc8<+RǕOG YPE}*A`yؗ Of-O?qva)-'wY!;;bW߁uV?ggz,GҨq2sQ_/gCR󀟯/'3p̿)o~^wc٨,]qײЏ/dlN7MM4vt!J3qe/z??5>?lݾN+gVŮF,}=J5dG+?f~GQ,="SKėȟzS4kbk}o@t0]`-cݦ}|lXg?6BJ_僒- Fbl=&ϥ Ⱦ"Σnr3mZ+X2cdD?#7q>{WoTWܵ9XѥM]8-y[MP/+{ CM3JO5o|=/$I43yI]w[e{B%B}i;d_|r4ⲉi?ɿs$/qػ龿B_lmN*u&f-.l(Cw fK_1'$:]ՎqKfreozs,8eh"ijTg+duJ[x%xxϽO-a[Ffi˜n[0}OnLJ6*%²_,_XMsz55O_P,&Bjˬ_oU~}b>'&d:}֠]ۧ[윾l{?^W-2[;}㿟?r?ޜc}돷oxwn돃?z׭?O8:}??~8}aOo?Nc<}ϭ?X/V ҅YyO9S19g6mϹTb6w!כPqMc6_{axw?[9OjIUǴm5Ot nN.fmVVWbvZ@%=*@%x6Ŋ#GĒF$^G$$/Hb1Iv=tCzrɲޅhEI'Ϫ,XNSzC* 6vA|mt*KavJ113{CF)@JR?n[S@}|_y67r'SlbfnTp(?ήɦC #i=M91&i e)i\ =U%;m 6)6G5mfEBWUFqf]w*V]uCb(]_ڔOjE)/[^RoUymxO/#)KroN~>]|ؔH2{=ٰoB]c%JfBXV<}onBbu[LE2֧{Ζj \^uʞmp8Jzlv`J6Bv:L/TǕSג6lH@bx|n֐ቑ}cjM52M2ɯ#/ *ΰ<2xo^gݝ52t2V4T`#甞g zd;/`tOY./\PM< mۥ;1.[m6rtĖai` ;N M_mv~*L(KI,Rc*V̏HޓZ_*UZ.#N^ g%ߝA'JXI,2R">;ظrv=LNJ1=%{9ca.}=Q?hG.MKs }WqӒY\|ǷX֞bCH6eU!q;bzI=^G*d)$dSB,%Pi/_XUTӲ_BǛᵱx iK#^~*ch1@wanoyVTQz'o9K)c _)~x&鄼_ 8kiV&`w-l:Di]15S0a-\32& is<.C!A$̨o6n%Ot>%× Va7Kku_9OyS8iq5KɼIe/_yc}G_[̺s?wnw_WߣD nl4⊱~ܒoRzZ"9Y$'"| 6/5`uyVzf_v_Gn r7@ j-Ȗ}mnG7؄fNtz8qu1p߽g[k8ltOoQ`?]'kz|$sF0a‰aq sgNv~d2?XgPʲVa1ua&&ұ6sN{XZ[{OOl|t5pр:xk!RmSr 7.Z+7(׮˙ǁQa|ZKc9/YsP47S 5~OFOdɳe%COpʅf-ހc eJ'Yb ~df는FbyP)UϚr\`– xy}.-ڕ6: bc;se)#cJD{\^XVz!n@-ju܅gځ KY:P{Q=8q;H6cV _ͼ۫|/N9<+<+4e_>UW_yWA:,㿔ɘ<+](}H?z)N,:Ec]a<.qlqʻp*1(0d\e"LL\gJrK\-=YO&yכuA#z2>U闛#˞D* `R*ZnaC\9H dy( XsX$>xv adLpI[U|uu{_!5[QY=+[~sWXpo\+Wrk|3Ƕ<8"lg[?rGN;+Ps;F77hF(V|FTh 9H8@-NQAH6}mNQzu8E9|/sQ ][ @6 Yo|g'yh wn (o*Gn|k77F<0恡Y77* gSAU{CCE+Jݱ1Z(ԏmҎBF=畷__Qq_ vTrEő }Ѥ?JP) F_:G9 g 3r@9@= fr@9#Pr7ؼXr@9Nt!)qߕ*ͣ] [7@8ЊH1ysץ{O VT꠿'kaO?L"|f?//?bOvzR`ţSM:Zwe2w>([涌N:ҚO7 0&5sHٞlSk'0 =ٙ134ٮ7Ds::wGo~5=Zqv&5>ߙsϽ?{sW5ʽ??7ޮ^;n)z2Jz[d9<(܃ڻʂԍw i*=˥>L6+2/KC>%{K6szBzWJzEK2V~7T(8obdiĴbXBYX8 f!l.om#bڻB&}=3wArvb d: 3,$XR+Jbso|ͯPUw$xr6+Q T[ $!G''y9O򰼝/HՓ++̜?BfW4[&La^.1&8A"b-Lf2Jfjh s{$?|րÑcV|/. 3G";u.W6[ ]ɬE.WoFNp1=&*$zn5jz|T-[KSz)oڃT" $nY2#M/y\h\d?Cv2#hi*UgMz_<1iQdV!)d~Wt_uM@K7]^YRwPdaث}$V;߱6x>ROה )ND~S.V}=%QZs{O{cP bϟ^)UȒOڞ]:?rfដ%c&";t1"6#;-RJ+4zbMt:SYu1p߽g[k8ltOoQ`?]<&kֈIaτ3 #_6?Y'T$lE`cEg[d=rQ_Lp\n'C5MW뜓+W/z0]\~~x%μ8pȺ}\KȲU' v5q=1bޕ)S} {iy/ӂ吾0},3u~>F\?&Ozn? M\_l~ ?ѨP-Wt%&I*nȬCtEzF%Faх6{&%P>EV-x.Y7`; se*'f[lW~݋6Kg4tn6R0:Ř{"Uomnʔ*5܅ [zH>ȗE^X"ǫv0=BJ·2vZqV]03\+thúku<-Yn4Vh(iw%찙 ?zk|$?I1411vfw뿿'QI [N9'K>\v&$.[jsPh+&/=,\)\jط*vVk|4~}Ʌݺ줼n?k-;PJ.N,=IzC  co6l_k|{$?.s*Ss*pNΩ98T Sz*񀿴|˨*ousGq9O9;gz2KoK>]KҨ(>?N/l,m1z)N ߸#6oV@8BM{Y%c\K<#`Ĉ-eX Fʕ̄x #nH7gAk.!O2#^&|{RGWr|4?s4**yF]%h4ik3l6=GWr-8YJUռ۫|oPcJ~ܨ V~^./˿oy[K˔QW;*.jJo 1mPmЅg{y͑ &oշ Udjw8E:ɵwf~W;,57ouoo/u6oyѷE6MCЅ|K]vW[+SyFav>ĖljVIq{D _/a{v>f=F< #+ͺ|`??W YR-^SV׆Ls?wnw_Wc n_4FȊ4~ oXzSFrHNOv"9Al^N "(C?gy|U7?+<ӫ|e=b/,Ÿd! `iYsW.%R15n2@w`?߿RR75>2P۟ךּ9Z3G1SKr[NohJoMި^xR/< Uӿﴯ{|})_>RտfZ,_ヵ>kMڨ%~ݵ;I_oߖ_A_r#nnTru>}{uy~, rܲGf/>6?|Gm/D޾ƻj =OuQ 6#)}[BeֿZ]r3_QlP8up?e*w,Lo{L]WA}obl0Ɇ;$ <𥐉y)] HB䲼շYbd7H]Ы<) a.4 PjrV7Z|ͯP[e`ȻZip9-+qnG׀O\,H^pD\|/H:{kzq%R޸{[0uՄiWքg >O![dXmK$+p="AJ|P+ۉw rŋЗ+ag3^U6yO2<hU<rAV}~ËyCpǙ61\ݫe!^'!Y ߘqWz9ww~jGeWe-@_Uu>YWi`40y< L&OWssd_Ty*2!$II;cIٴ_#G;i3F/%Ϲkk\^ Y|[? $p=o[=_,^U7r}0dF}ckJ9;l{MNO?'|D :GJN!$'DAr"HNAA: ~įr09Io5P^u{'RT99H +f }ηIbݜ r$*Ԁ8I xzmv+qr*Wa^RQ t}g'Zcjr{3[=ƿ~^糬{sm𤿴$+_a .}bfORզB}9(%dS($*"PX TOML/woГ_zX Qi5>njØTط7J^'dU-=odO1O4tWu].4k|-A$g;fsehwޕi 1:/5pwQǬ4wg\5>\/A˻뮵tgyRQr'IշaYT֫lrz"{v(=T#{9*d3-"1!wTgdڦK=k5O4y |B۳Ϛ_Znk|<>Yb{{ɬߛInͷma3fc p_W˂_>(ޚ?Nw3_}0U8ee C^V숲bj}ʌuûI7! MZnz%e8O&P쥒gt"]xOcy+"Kom$-GEαoQU,Z@i 4y< D"Og7@ElAPKYl՜*ƀ 3rP@9(g c)Ñ3rP@h$}w - mg9( !̣+Oٙ`Kdz79&Ͼ'>.Ͼg;2:2dkc5sk|3?7*{sϽ?$G{sϽ?鿏ې{/?rsJvЖ',%dn=a6ݘHQ <Es~=e$[>]jR66TΚrw@!w;NڞELp]1(5MxMkAscF4]hl .'Rj4J]T~E6jkzxLS} U|5!_L|x օƋ<G M^<_ݛP^ш|҄׬iNЫAv&)O}u v_RxR_`ZVlM&y+xceoG8~ o^op}e9~!%ՋMtjgԙ+;~oK.µ<_ iu%. wt_ފ`놝1L}g<ߺ2RvF|xۡ 7^`pXf|d5}5i\xqL^oNOޅ!߾%MǛ(~V+0H'_V@[M pZ}$Ã-ؒI\N[&UP]*Em t gZ@fgQ_/JcZo&Mw)A%T1Vo;ס*۟9'ۇC~[OԏVxQD}~y}nG8 'lhh}CBkso /m2{Θwys7Ql{UIQyis 25P7Ӿ Ip<xDdJGBO;C'OP_َ'x7/:^v4݇VV^ s|H+Ń]~`=:(<:tO w>>>`5?! Ad08<g`xRAaxx>.W7gF9FXx>ԕ?>LdY~2x6˫WCaGRC{auXzLxE`(^Wݟp|uaV0J*elUr@ Vl}ݲ myYR zaxlEKg/yIUKHW!xgEa?kZ è{ը҄b╋!> ?rF۞8pΎ"/B|ܨִ=d[]3: E+ [g yj,/Kwxƈ* 0_yR4s^eOottȷDⳖ2h05 ZINǃŋ ><[."O𑶇T{9syz0x<;hKir-`4,_=/y=ZūE1^),KUX ϚF@\%})h%<'쟟i?Ȝ9U`(@i۴k[hj=6%xbÜ;8!|ՁWOH!xT$}Meq%nvӊ^P6s%4a oFm=UU`!Yg h<S.-d~vM ovZ -{Ak:NWJx{xР=O 9K5vi> 0~ob8j9F0 ZLW_xiZC0x ˅k%UB}P~]_W)G M$2ζ)u_S#|gx/UECG(Ǒϖ&??:<﹘*Wc wLt퓨-w~VZR<*E|߽.,S{q**ek`CcW~a]֌}PoS)>L(֬N Օ>Z{Yš9RguOuW ?1XĊx1&:P>iAtlߵfPg,KT_ cxZ}q愖|H_l3\ՅN,w6"yhǓlO /^ P? i-Ƌ|k=0k_ϼqa|aGS6 e?^=؛Z?♌#C?Scx_}Ckωk|]^tďm?Vmso+=+肿a5X K p424D/!¯ BxS_-<~}5pA]#LxĚ"cthOX}m\o`$ re@ŁҾkFEx&y*612"XzG`18=U*GFeK c 5b=}Sʨ`pɂ}Q$)ޔ{tۆ=y8lBFekPm|)bN%-^K @{K"lZe]o.IQFy=ZozqǛ'T6ا<^ȯa{xst7!1ߓy_ؑuREW8F|axWĭb+Q]T?@f9ʃRu [6s*GcH8T0_\oLs&ؗ_6E/weM^jGB1=YrMKlM מX  |"/  " X&6Xz'wCulbMh ΣuŰC/,s+ORDx_%Gxґo^:Oǻㄐ@!j(xTxP|xnGpW7g8Ws'Fs*/_V^Cڰ? f]Rh_ք54wTAp Q.K}bio3&h|G˰{7k% :H2c=$)[Yyz| cY~+0賷VeD!ks|ԊT4\t χJ\."c,҇]{άhۉWr!P66p@dNf-Bx[秀QؾClf}N\7 `KУ>2! pD<?g[ET-*_fmʰ^aC÷]JYh&c-@P|~\^%TM>Ui?_xu ⽠+\ Q^[ ̗# cgx1&Sa+_Z`ʋFT3UEӬpXSn@vEy<<2Y5=74&#KDw8{[&3xmh? ·v}yWĻN\C=S04fı4O5kzR[D3O'iHC,O | V^(x;w xym dLE]CxCz4i L_̭%]PO^YmTPgmg`0ہ@^J3Pm~>QK_[Z5}lhB2"k]}#dg3i!m*̰^df&xmiY?hM"LzQo3?m_ .e}b}t=O ֣mg=}91ڗx_7Մ?/@~v^DUVߢao_y+oc.]=4QUVӔ8p>S˝hZ9w6>ݓ tnge]i@|{0F8Qxi7VH?vR_~0ht͗Y,wN ^Gl*VcE 0D[.LX.B%_0E=^E٬cdyxm~EyBWU 2Kx}G`K< M9lhD! }3?Fn|${&(^hHI~EZ}x.M0Z[̂NgRi|d/׻1?-Dq%r}޳;0~-VV0?x&>^_1KP0?吽.ӣ@ߕ6T /]]몗 x 5g~[ kϡBuMB(h߼dO-8ڤ,̗9>y; x{Wd| V?cmD{ݜ8 , ݅{A?$}F4/~7 .I^xEluuj<d_ǀ,l*2d/Ye3 qǜ[sECQC~0ؾDcTvȅ*p %XD)`zS?Kw3W<%^Iu~Z'U9]< K+y>j|b<\ TV_@':,'oEl%Q+_c e;S?ckJ㕩4y~Y. ]#ch7޾ Zȟ/UpѧFmx1o_C'dx?Z+67gzxw{)@?L8Tx"O6:Wwk(Ϻf7m7B| 7"Z5s /2"GG?/(I5x' z=@6r)O}p\):T"S{k NƏPY<ދ_gOQ5 yA5b{UWl8|T GmxR7c[t!X>Q>OSr/~@ m}Z& oV⌑ Y<@A77/6 >Q,]F'k@C-0Fex ]LO /%+xH0ja L&t>Px-?dMK_"}~oI$?_zɰ~6y_ ޼k%5w"D:UۻQ7%d/G o3.JMp4;AMo?RA>ǫPQ+(؟8j!x?c KK\=?ϡxCtx {`֞UaٯjDWhIzCwW̓H7#͏|[\XKsB:'@5OtAȎuӟp>Gob3^$j@bۻj %m$ŐțWW~>(}A7"]:ȟ]OҾn艋K@,<S_ٺ*ʳm—؎ 3Bl{m x zBL_I'8pp&:N3x?Ho$*h؋?nq;cO[b>O3<2#קx9ՔO\_eȽ .ˁxv.h&->joĒ;gaO /l -*'ww;o" h*OyZ{|ptE%QC &Gyl7:#0x?Bg{0烿{$-%!ATf$eKes2OI|7i/ 8.>;w7ڥv6t,B 5w[|Ao;*cdϣ3zgMhxro\A=>3"*X~8/yO gP@Xsi{(u}f 66HXnwM߯Tvb7[t~' ʞtA`Q_EM|;Qx_8 ⲂU~ǰBFYH?!W+ d%|{, =iuHhP%ʃ[QU8"<_,=y7\L6~4@sx>UOl̡ pG/$pQwx6~Z?]F~~ o`,Ǜz1d]}Ńwh=о11#'̊vT8kwͰzy}zs~N 'V;\=c!b.E<`5p8?x@=oi^M&F8{F0ٛ"LZ?lJ1)xYp[px f4NHC>2TPbY>Z°,>g}O*Б21ɽELu}2xU?Ǿ,f#ƣOơmsPzBѴ_Uݺח/O\|3S" ywW/0 CtFY]H@X#l-@_S~4?x1CGHgSϻR7:]|t!绸Ĝ#?%s˄:ƣY}x" ?!}>#<@/},V*lx ǽ8A8 %beo#p &><^RxXV [|VLv!vg?G>W-'a"W?:~ |dW"bF!'╳}X$χotùrOp% = O &оKm|p҆'b"4ԫ+C>?8 |zhxCd{+Ż*<^_S|d}8I?xiȯx~gxʐ4fD[fKěaթ_ xXo)x h#/ggEm%z[DbČlcLr$Ӕ|axXJ{ U>*$/b v.0嵥ЖS~*x!k: Ic<AbU?PS~2Թm]+߈e[[(-|-p0_:ś.½>- |xx,%:w%T7YvKM xtzםFr)9XnMY"s,N#)'s5Ch+J  nnre"/3o`Lё>g;h  ӴCYMYx朊gZ ~_A)^7MxT>6]~M\}{ۤlSěp(Q#'F;gȗf ċ  LSSѾ@n #X3/zR5/}uoG SDz{T_ K F|ޛ {}OG(X`ݍ /ʜIOO`E>Ihx$H?(DTyO/-ARz?Z&xc%4#Lzf#I`jrLgϜC}$ ǟG2 M g*/X&9^]΋*=R\R>@8 XY-"l5Ieھ_b&䟮CY~Z S t!x9gME{BgUq޻<^*Uw<@^bxgC//T~&Ŀ+4m }62]-|OJV+PCMr#v5|ՕA$s8AxLƞIe-"KVoA\M qgjR-;g蓏m{S{o$1^p9FlgoY]<@iq<2&F?!nt˧&9|gB=OKć>Z Y<uθtEܰx؎&M;47w);\؋} <66@p@[|*"5@fn>qy.x`<-%*ߴ[ %S?ws{G%|V;Vqx}86),&Nϣo=ZS{f,&x`|[c 4^uxN 913~Yy8G ȗF5lݷg40Pf7*$'ϘVuKK<FcLzvx/?xCV.5~:=4%{ojixb~zڗS˷h1e;/xl-ٷd0Y<BMR}oB y_zloyyB}x*dap^n1ql#kE8K[/p SbEMxgFr 0<dx(Ɔ޻YF_,u##'SØdש'c J'`xh[}~F=YCGZ);$f:P>>%빏n7۫fRV*85H x‡8/OL lzںm}z<$ϿOuj>e_3Iݺg{rW)FhZVuc騇r&5^e~x afx7֧5igZ;O+/!hE;b:+S& {X>Z e(_ y~BLiC5X-Ko''D<ŋ4G64^ Ng!|hnGQ|=) R`?cx#^FHIl27 (d lOS ?cx^?xTܙķxoD 0JK˦X+Lzp'Hg<_ub_x5 śpU= 썮 Yx}ENe| յVTrH=_\Zc ^h?&Q./lc>.oZ.b'?+6&8%SCHKb)CKD~xNO1ٜQ]\ OS_՛ zuھxNmOΕ xg{xO-xû R%S`ax\ޓ%q=䉫@>cx]?'mlw0?r, f=ta;Ax\9^`z!p([KXv',_1wYTJ@X!E+C&OBFw؄VǏqC'Oo-Ivοܾg\}*P,ǂB0S[čx PV3OUn>{xo>-yYozcK̟BE'z#B-)ޅ1R|${䎷3kL01x~K>-,d$^j_`ӉсC|=6 ] w^i~tz??/)TZ1^ J۳(۟[[M!{|v^Pl²xec'._|MO4V2)Sƻ%B =K~-C.%yZ׀_ (vIgb~)nkPg`3w&XQхzҀA=ۯ> Hv"$pEd٤d{@#LiXqW2|VR?C2nACRTR<\NGI93tni $R<>x!]%䗺jX&.C- ȃo樰'_23#4Fba\>}߱OgcmW"ΗOT!lz]&x!a=^>xp!xU~=3QcO/v`~473e X' o=BQfHI^u`ܶ,B"3T/2HTYa 'ʻahT cIx@_|$:z?pgOߕ?otuCBʷ" '/ޛX.zϿxQ·5l=A8kQ T仧xE&Ż[x|Fڶڟ^~DV5_.Ϲn/?!޻ȚsAA{s@_ax 4^7֟xlBӐ?E~û!./֟}2<|Hխ c0U$x\oh3UFԠs܆r+:'>k%Vp'6SX>fC_ oD>:?')?(K: yU;tkx{ȘooFk-A1*Ti{?tt=8tY{xg%&S \DKVKg 9A2ebh_;Ȫ! 0~įKCW{vu#:a)+Vˀ}x.3%mO ttK yL3o"Zo[_ Vv/!K$zWsV²W ^/-t/Z|%Bwh6!$,C).]/!_Wn_9ړE@<8a60ݡD%eU˷kY;$/A|̙X!vK|LYn4To ߹x.{]jqľ!6O~3 >TȟL rb^|x[쟡O` {H>}zx7`dK+7gdiNVp^2=N=ޚ7CǫEW-PUlk<ū ۹2qퟛ|>`|)w4#q=?}@ȔnxێoY0_v$L [v5= ORr8&3):o96lodzzXR/T|W,Rsgx{S@a q9W}JSw|wm5ʧ᫕׀<=m*k?-7:x}ar^yp:0GONY<0,94W`(E^'ʟB~  @ւ>.گm ˒_{:1@ :!1eAxg g!Ë3|gx-׿7ޠ`cUBl8_F0<Ѱ{ۻג+n'_CgMI+E_X_( =M,-7UdO Ii×C3ٰe/}pӟi@+Q!V-|^_? z7apצ']{MOSe` s `c[֨tgeU <ޱe?'֧do}67xP~ڟ[F-ߟ" U}z߄;~꫇?\ϗyQW*T?!7y<@ߜ14/IlI}9_)~%x Ap$Jpz0ex6^0x( `M'o2#/ )or$o~)7oߍ;xtV!xנ1g2o_SV~C%o[BO${hBtdJd,'J͎pY<_u޻ǫp)޽熖B=~=\wJmt3ʞyi'WJx/ie:*v&ӆxFWOSS>lLq@|섟ibQ !qMҞA l9]b*wQJ/5<0u{q6?_m{*<_ЄƯS!bKGmTyj$T'$+ 8fS\!Z~ 1b]w}uKe9g$ResEV3I=d#qL8@exc#0 y$ 'ǛqC3L4Q1KBzx5j=p<*6 GK9>CAU!&Id@9}=m`#5!k5I)ɤ|xxr<\O܁j.K ?ޞuݻ9)˭.`@?l)`e>h/|"gzoj? p{4%6v;MʿV̗@T0.z@n<I 9?)Q0DzdB\.=*oy",0 r׬:97eGkV eH|2Lɷe3K?0hx_DF/;v Ŝ۷<$ڋT:82!~ 65>|#k7jއĘ3ISZްK =TPp@shvn[-]FzDcDř]@$3K5JUO?4G-("ԳKϛhBx-(/sl>pF\zy%zY/n^kWϢc-/s7L]ʁ|׃g-%@?SG0Jρ˃q+⹮GbS>?9]X!ȱ)$)$ǯxl8yc=YCGm{/fXOWĵuf.-<(';_ H'c<=-փ?+4@/V/ E\~=h7]0K_si'o/\0/xז{MQkCx8q^> 71Px5()KU_<#<> D_= )^0 'x`.Rr|]{tS0jrK50_9@?A(Gax~fP#5|"gr PoJY8]}<]}w1D6fzmtkyX?蟶&M}El߄x)NX0#;z@Sg}z/~ūbG[~H~! Rz-]A>3^8o{+2*/R*O_al(G}}8[oCzɇ' txp,ר7,ÍBry1ݏ.w>nhbbԴz%vJ4UJ#~cM k#uvھJy4P}_*oalThj쟒x-<=V8:e릸_ UW{eY.wI$R?8T2ӕGرx 1pj/o-G[=0^g_[gA|Pqz[?cq?ZiBn?pyZ~]گY/˒}z}oZ)C'ûiQI!d kF^z.>,?OW],*V{? 䔑?̯oS.);_N-׊x^x|s^VIu|1,RhNP!ooC;%W,׶pN ;xelR rAxb xp;tM_솑Fn |}@e޷{yvg%+۰ٶSkٻ,ؓSG&qFs%^ }{way{OvUW`fx ;ݯu]-2=O?E? 4B_[I5 =q !5paٷ`VvYfe hGNyO{#6a2̭ Zp=@Z!->hj~k`Dx?ëTm/قTX>]qzʥE!" p_l9  \#^6nAxU'6ݯ<Ty]'zKY{sKqAhߨK˟o4ojxs]#_j,wlcvqTDG߅8y^&|LA|\otdg+*Y}J|BU?wa`_ot҇cѥr5l_ bFBI:^pz1Ɋy+ܵ;dy7D >.kE߆?,Z)D7MM(̭zG% ǀ**hl|_ڡc ؒ? y{#x>Û9}|xqY}nmHEz'DsSr=d־aw4)~P@l1y<`?xUx EU|nZc_Pیx ?Ձx~`M|x{sQOM?UTFOz} Cmk8%q! 8B^r*ſ[cVdZqr>{9ŭi̽\>c-Z ˃}#޻iˎ$cs_0'U_GCP=>/\[7'>)5(>t<^6/MF~k񒊶x2ldx_o JCd'7Ud嗷~,hFu}_K#"_%?QdTji}_(R%hH`'?xؓY O?ttKgŪ/bp sH4Q@RQWW|8mo6>X"Ov0Lb R>Hmh| 'oΣ1RT:}п$Fc?MzRm{;S ˋLAq$3H3]&گ~{fkB솽$]"Ĵ0thi>4 ǘ}7so-ނ'=*o s<4PO8oMV? }}~I~FO#A'RҾ~%qʮ?t, /(gO~WB=R/'D=z#CSU;>>XvC{/NdJ'E޵CfƄz~wu?ĶBtLnC|}x4?R<߉WϪS+k|S J$'-g|Z-tɃ,]ȏ0"i?Kd۞3Fɏ w\׋bZ7r:/d=oK'3~MuAOW{x=6S:޶ gjF \ OWy  ɧ~t:H>k[֥Dޝ[2D9 hd&*o>Utjy`!X`F"2'Xsrd6CYx97ի_mdl|)F&%Sodx&Ư=C]p"û9>? k_rBJ\ x}*k2@?c<^oDnI|xz#l_>c'vQxPH|W ;OG' S.>փW=WTȻW FW2c>~6Ix/w,\ÙK=ybx_^ɖN2vC}2>Z F}k8^ _(1WcxF=՞[hc}ǝ,boxSVK"l[vEmIBl o\yxx>FQ4'D#bU#tSmOSS6KC*B|⒍Yd6_H1ߨFtY '}A쟽z04rH?jtm}$LL c1GpO;_Swho+p,:% ޓu)l3ސݍJ_d΢C l(.W.+k2K?Nܙ~V0{FK5YN, ݟŊ؟'=rVlW,_&$D$lZUr@_؉xm9b?Vπ7L z!ٟ瀾y#aRGTv,Wf{9ų$PS<'΁~CxׄK-Z2>Hu >Oz=@O[chOwY]E<ǻ0~'ז& ⿸Ok ]ġ3\twǼe,AD~$zȤi&wYeg*&!Lw#?T=):ݨ]%Wy2}M̅؟$XZcxmF ?cmԻ\}P7=f'x6򀗶 繶5GU QX|0/4,;Пo'nO='8^pT? bFmࡀ2Ï^dM#KK?1kWAEU;Swcxhz yP_1.LFy$x|!UF6>:TWz$'Cb)x1v7N} hxU1="@cxWqq</"l>> ȻK|dǗ0J{ɽQkt @(_g>}@~xI~Q gP g\_#f-ϲl^=Y(5b>/QR:aWWdxܣ!\}U0՗_}G~M}?j`Xؐt{< ?o{_@iL_FadY!ƻ%U`[x^ywch fU0?c=+y>@uLBq k'x- 7V/<»0]׶Zߡ! <\cuo/B__^jT}5ûu#Tpwm4쎷c ) G}\ oYx»m?׏E!kb$My(ywʑx{S?7B=%~2}epv񻵼| w&g;x}Ov{Xw=]*_'T Gm|B+aW Tڗ7O o?wa>~?xz wE嗂gہ'OCQJKbO!TpKҤ2Lb5+QoxIvy3O7K/;Y3cf7ynܷi. wmrK m{+CgU7 u[o:L=azwWC}ݵ;G:o6E^G׻8_*AxٖΠ,W/U[1&;1:y:iLr>Ίǯ+Ǡ}<ߍ0#zx8x<6~ p]jK=:@t(c<+F`6ٿX$Gz`ģ_V峻ot҂' W2K}| &k9UrVIք_o5sVV~Fbο`VjJdi "*"]D۾6yeuW ^kB *`XD5xWޯ; $"gÍPd`ߥxW?R8C zzxwp)M|e"u-Pֿ 3VvS\j|}/f_!^=4aJߍKe6xwaxzi@FW2&k"+Џ-^o~,VjM{9cXJC OLvҾEIdt2&p?ui}|2G@Qx0 ,?>||> h#bj9:ðzK] IϳX5khax,Y &SYޢ˶Wb<=wK c}- h>$g|yz/1'b?Ԓ /LqP%!⅑3 оg١g?8OLEIޮ?9$g${1#@|/KۖK7iPE+﯁iؚ*]rDG>}җWLc-[Y_Gۇ%kM'B?=g)/8E>R<]W\dAxbޯ x0z9*I}?gWdxz'Ky,˛Xfs,8og_VNUAG|Vy /^\ x5t_jN\WWO3 ~*/LSz>Kߗ1O5~7]?{,/8 1y4eT;?/?x sؑgD:+J5.owx~y 9>!IA#=<:i}^_|6#:'ң$.RAA/N]'+*_<()~qyr3tZ'ir>í.~P|z>@Pr{ ^X1`{.ie}P.5vy op {~Z_ȿ~%Rb_Pz齟rWUt 2KUg6.,2e\9v(OˤzȨiy?!ɼf>oMʅJ"yxbhk]Wz|xzx7?#nx4#M'{Olj [-9^j/F"ecz oO{Z-:E=owSTR܄.r<;OKFq\/kq U*|rwr<4?Q͢t_T,$N@wxlxƱ˷My_x دӭtP2wCfio;|oƥ˫ḍg8;[JDnt$1FQ5qp>Xi!Ǿ>2`Ӈ@~8*P!W˲!FqR% b=XaLVvO}@]QC:}ixuP5'{(UƶwOLgcl $w[}ܢWB?TB!ڭO;ET_T 3A BJΎzozb5?1!1l;Ǭ5:E?ѿ3ܳO o>`~JXp>2cp3sT:qLY2%FZPy"Qy.ھonC~5wZw=3Y.tPO,ED OxL<!^}>EAϣg^kx_lN|&qR7;ό`~)b}k13xi}0Mo. =݆ǥxg|_6|wR2Λ2"~>+ŵBgy/y $w9d2$#{%5njt"'ҟɾ_\rClD1O6LsJmtVϿ4{`o6 ~- oXx}( |f_/bzΫo0^YƟf0c`ǟӴ.{{Hqۊğx}(>N\<_͈7.z\dyT^!@0&W=_ `y|~@~׿  \"˓Kl !!X !{c*3/@?c{< 8?Ո|X{}e9JϟDL>oO`yY*3_N CĻJ]pxX/nÄt8߰Vk$AVt~a2-x 'hu9;ޗBũz}8Py`#!N}>Г?x_%ps*3u//D~p4|hӼH0-U7$z|'DT|/ ,&P-x`=J,R?.ԯ'77y%j&v<~'@Ok&*9f.7_y:MQM: ;ϼp>p6cZ޹jxПYϼ]`xge)ʳx>|-オ#LGL~@~R-/<Ƿk@%ZKȕ6Yzb óyYL1%vir~iD|%1\=gYAATe\R62FжJuC{1͏\<ZfrL0| ;dyNCrt7IxOV?;<.E0xҪDV*iur9pQJy@?pXΗ<>r<fPS?~i%eC<܈.>g]X^#8oi`7닮a~v/ys6@<2E[6B>RS^Ռi/*kzooMJYpP|-esCxVІ3[QZgxl'>YgYF:_*u{ss~{s/kj[7=JV"vA{jnJB#-pwAǻP8uMݍ[5<>>{ou~(J_w>%~{gފ`y#gya}o=יH:\qeST ?Uab[CE(WE׳)?g! _c~^߄ꛔU4Qo&vz;oGѤSٜawY⬂輦?tEG~No9s6'z zy\TeGv~2؎5y7)c?nDPy P︉vx?ȆK p?tn%;'s4?Ym/W"gg^M8-Wh;jĻL+U kd;̍QF G*dOdw/B}Yp}r+K#ӣSp}٤ }}YY}P>r~Z;,<<>3zQDy$r>oxLgggGow4OkS61ϲ<&?Nmi^]sԧgqD ]=7D7f#$@#?/p߁jĻ=㗮7.M& 5Uq͔:~^r"~п W<yO<ܞF*@'>C~?Owy~Qq'XV9my}~@~{:ycYU/8U;{z&L'mmH_lsƔ/)yc|DHHR@>d>b׉ScޗnS}F,U 9(O=$Y< 5 2NFIoo%U닦,a[zB35~9t2/y1z?=ǻgͣyem=*EUsUE[Sl*p z#tέ-^iÿH."(C~,424/i@RHUzǹ RD2WnxV/vghȗ- xC]Z-'OO[>݋8ƾƩs~'X3|Jl?oS&iDAWJrgcY0ELX}`L T;g}z&y-¹ %o}O?˄)]ȼ?ϓZA ,:.>0{D}-T1Q)zBDτ:/nf*g'$ԋ=K|zR2~/ux@upsR}s1{2)YO΋ }kK!9?~bQ;<]D63ŔEok_̰ /Q:( 5UCvy~xZZ?x\Y `p wOz&78or{^L"Ѳ8,D Ry<a=zzAT> ?V? Bsv{MpZ}xOY(]O3;1o?^0so!%%'E>;#NwgExeʃr<Υ|#0;WtPYG_\֕`G]L8{zo'_zAA)2Jn<9pAc,,a߅=,(bzCy@a!\^{W ][l<|*@wU![4x(U7eYй\C0׻a,Ye{ix7lm |.:U(9_ /\ f5ygp>' /'Z /^G}|+^ơ(G FBzfw@g5>}./^|7P}x+Ru^72 2BE;j;?<TT}$_[٪}a=CxM^x<#x~/Jsgis;!aA~ $jxRP._o'Z^p(ӿ`=U“=oNv >E+S俼b ny*ai /\hPU^Bbrp@/zIO"ǚHzgM2K'><jj}vW|@_,!!^. +O)NxApC#*#ߛ-{=?'aq~6y=,sTwux2DP<`>^!2j2<}22ktyrpDp{og|t.D2iI~/+n;,a&S;gy/-|Xȿay雖6: ǚGrWߴMǟh0/$\NX[?_A=_01K +^.f95kc='"boZ=+'gy}oZ^XQ=+^Y4^!}Y^g/H&SLR~ȲP d塾RNStu{ߝ:14l\Fh_#ۇ}*W^eg9D<3V{'E+xR0?y{8MxOXMŃW}/VqK* -p]Y $n˚H莌x,OM7I¹mƃ* U>>+وG7vt'JAkG{&B >x_jZ?\=^cO'_^~^2;7>FEz+i$24Yyl>3c_#gͻJS[ocђ ݿaRy^˟M2swQ̿}Yxޚ1q GPd]w$fyC߄rz~ߞHnϿ7~5_%9msE"JM=܈mXӜgy'l\KĦ_3:hDeH ^ __ _ dDZ=$7o3ϠVؑc<#!R 3(N UKKUzYlЋ ςbT^ od٬C@0͵c2Tf{p0:v~}^%H<ؖ rn? V*γyD("AIh!n<mdC%qlډSDᚧIۏC&3H!gRv䉗eelzռ6Bb%=nUŻ8_y}Uo\*%+z%R0+^yۊt=[I9{̃emF1JD*>rųM5b!FC|~͋e^Poͻa#kY}Ͽk=1^}v9Bs\Oo?tQ7KkJSH>?z}k7~p!+} SE_vˬ1Vay꡾|q ]&[soǿA~z]gq#[;P߳,:vA}IDۿq:96h_.A <_=C+8XYDVw lyJ,тz#/Q0/~p; :zF^O𼖂I_߷2|?wc2IKg'Nvl{>RNf2"BϿ%Ou 8säwÝgxl6>C%W?wJi ~z=lQ4{MWpﳰ}%g*Bצ~o%d_$Ii''O >"i~ˡ׿"}Cf 빊Gobj0ꓭ}`&=뗀XBv{ς-W ٷu{R݉` GՌAƾMJ$A##">xE'3yg{)T#X\?"œOxݡ'SS/eC~'' OY\p@z,Zh9VH;r?G표 yPp8C'1nx1W?Tkxԍ0Á' o$"BY =-3|5 F]XvT|c[OγӜMԿh[Vw?,#&=cc_Ӊy'D=[˱RF"j]ăC1!B,Ǖ GzG;O-l?r0\O["677œi6U,˛KWK'S꟝>H[١, ;/wXp2+}|``x|u/:>_a/$,O-DND,O&|xG~8syy/cxBt4>z ?4,C}RO`U <(%W>??'̓x6ﰁǯ-FtxO4VP=t-AN)ǟ/Z+Y<|\wAJײϽoG۶ǑJ^|On6w j@]Oؾ0c5|@x('^_2j//x~m#kڷ<9 [<a_Z_ ZO}!>z, 9yZ}do}v-s}Olwaj̑}G77gQ]si)W}nw<5{uop{q~ epYS3znVd 7jy~e~#_2?!<6=B1ブLxx@='{xj dy։wvxS?8YLͯZBԻ]=50|5x| '1Lߋiɣ|~n{(^(u:;sFݫ/z|}{ntzK?oQ?XdMHKO<>?{ӼD]Py6?]|4;$Z<^Js)3*sAVBr՛rPBȇW2*(X>(gxt!sih>ޟ<|5Iv|?/:Cz5~?p? ?{۸w> l3ٱG^l$im23],Zm6R-ޯJ#6iiY9kg]'K#ݐƛKqv]/! t_xQ; TOb&C"= ؟_ 1k%{$vrr'eN3}|mV?,1x*$p/+3@7ΰfN[O޷}tm|g QѦOS!]y&Y;Fp:kC2?ϐx
    ~_fґ_ۗ,-~>sBWwuN9œjвgxX#Rzx"t"9 ߷w?ї(JE(Xɨ!N,&ᙖ9>TO*rycF03C'bMx2->y2)ߟoZ'wbv8_k߽5ƓuvK-k}Dqb%.o&XB;|H~ʘ?ѐ=(CJ/XG~X yaV7U}^2K;)ahg0 x8ޥxOi~tޘW[jl*u}e>˒b/mE%Z;Ϛ=ƹ<4^Io=\ Sy;KT"MT^Jk8AYŤ.ԡcQ>D׹υ(IzT>5!/W bt^Pzzהo xς֘xL3zr)?{ zK/1^#ŒV_Vw|ACN<\yw]ܱ{C ~[f}{1)P?#5 };b4ij柌O/S}Lgz%ا>~8s$tu)cPR&o<]WC+|x;nvRγyzHH!"}Q65|k C$iQYzJ*!F ?.^YyP/%2SM&Ikw. QQ3X]v'/Pޢ>֏O!-?WYJUk55|n'qL2<ѣ7EWz_=]A` cTyz:[|l_X_n_CڧxȅW?m_PKLto.l[k`b3ūU+UYoTQDxV%Sa@$}cgkK}=v-Z/%?o?~QWS|X۝x$qO7}1_㝵ň=.;K6ki-U2>aW4;ŨwyW <[i$8Ӎ[?ʀ =MWc ځ-}KywRKg4Ck܎=V>6u7^*xӱuoHvE;șrΙ d-"QtLÊ_x@}2ANOc . /5]/axNc´g)#}x<-Ǔ&˳?~b\YYuxw-Ktpi" { +ڢ~ʚwūDN𻬯n~`οdxLKEa?dDnv5/uq6 qX_̟k,v{34r1Կ]/Vju-{ ;_"W;Zבi*?`{7jz~"} O7xCy!t:)J]ClVߐ~czWDX'Rbz'L* w[N_j'C1Q[CO4]Q˗xzx?8}jɿ4JsX;VĂ>܍^xmxT߯^ޝGkeRLmQs]͗!͞co_o1&WA?t?Vipg0Ϛ="KNo27&‹bEkE~<{X(FU3!C)ޙ)?'RQB&x-Zk} ]ⓧl~)Ż"1E5j/'>ik\?|ƃ>ҫKbGo͟W)|aQOklL}*t`6>ӐŶ=7zfa[l{9gf/[C37H/c.({ܕVP䴍KxśB(xsx2G(>);FfM[xO_+ ]Qh'A7rt;^%e_Ⴒa8Ǖ {}u94,xeGY#a+Cki3<7Y7;kTnN ՙg+7=>RI4qCKu3߷jJ^So Kϵzucm;Z>tvh츉?Ĺ?wxgRfr;'.=v8@OBO: guv~u8;gNL~S^XC]_=sdBvhŧ';Wӌ/llhĪZ5Y(aSԶlhsVrՓ_,dRQƞlѪ.ķշGBjZ7j)rBK*ɿȭ,j"#٫&uP"Raq/Ǭ/!˗ \]ecgH"l;$ORbUZuXx gqOza$L>۝.! J{4֦;D9RhJQl χźbxM {TBCiM>nj<1Va0F5>Ug?. @ȓm9g7NS 8#xdFeQwK $n?7[RqCåz7@o6sd,Jcr!:rI(S@Cyyz$ 4ztssz\@wam9Y'[&|v-n]#~LO{ɾ6&S5`)_]yC?i*w(`7 .v#h4Hzoe2. LNO>?ch rjNΘ.B7>yOMԲP}9׵gK[PF|ʀ3 LUJҝ i7=3 KNäe{X " ~*C@EED\YȢ&߽TUjMWɹ'UUw;| `KXr/](. {lDQ^'^˯,J!dWǁy &G YBZ~gd[Rh?OJ‡c  HU lkh E7'U6@6H,؈gQ&~dC'|F)6ƄL"t>3G߀{2e_ 2*TcTdF y^ye"_k-a{7mMӛ1fjzCgv.&/*F배h?lO҆ L4=5xhw'\fI4>O\wwbO1^XX.p;ƃ e>dq~ÖD 3#o?ݵ?PW|%0T?mW )m=^+Mn '&~  5%erD(.CdPI #TAJHN`yom݊mCW\%t*vaAeqzjW.e4e-nx o& |?>ixs?v|Û''<?nvM߆qi`h阜#Ymy" /J9YBVlѮBy$[M|,dnno)+{CB.M+VV.zE:UQ-4$)Ä';gcs-y4KWMEo29px| BZ|8.omT,A #X+?pO᠒? ϩP&AbU9~[,&…RO4Bw[\KAn|>͗>f_W%h?(KObƆ'F74v@JV2^k5'yQ0LVGRϋHK̏'o[_ 5 {a;B~zZS%kaр/b,jG6),Fz$&kTO6=-Wl `W9>6AދqlJ8L <$ 87\6e7v( D^WNJ\mlBf<]'愤_F3Q8cL?7Pn+oI l5h*Òj cWliJ_*,!Z_ӅJ0yk'Ԫ~$'X݅8X@ހ0Np ߏQY=4Kbà?KEd-A+/ ~yW~ Sm 3G b&Db]J\V%Sʈ6-q5;T]gմY Y6AdUgM /pzWd芽+t;vvuJkV y7SH{3( ۗ T$(Cv`Mw=j-tq_t3Vy5RqC' R5UpI/gr:[kTV'ԯJ.5-Ol?Co_mh}Rl3BERd.L9ɉ4$%1iph{mCM͈EQf6LkPGMFSdBYk" P{^=/[6%U=FFj[Rsʖ yA jX$[=qї( aYbUC3AN\YTa;'#0pF1T 4 _ѹ#^Z')й_3QERATTPLA RHR'ysܷh/2K;lsd/.$?~I#LqiHn ' z(͕% jC'% RWۥ-/ wzEFlV 2t#4 :_g {2x3" $dg -Bz+c)[f@O_&4DXXdBU7DW-Ζ; Ll&^ >j{FQNW.Y1/. W% eC4JI0/S#F+??qBSkࠬe=e50Ll1LZXD5242LdA] "x,+AuXHXkǰ`I0d @@XUi,A WV6ro[Y:ۀ *~ &~ 433uhP\§#* ?,ln\z"~pnsNrŹ|BKp(87q%Q@?/UAs?⢀{>Pڞ %:1,&'@T@*!e@/ڗ`$ d0j99 YF/I \`I 0b D)&4% 0tĎcLo,dXbޱtE%~轞tM_ }#2](!(FX +09/?ʡfoM$2$xnRbu `shSlIOð@O qb-`1?Oq-lȚK0l00a0,d2VY2wyyL41c$sa4h}(sS 憰VanH  ZF}v2 Wn׍28$8?{B1K_Ct5E"wywK] m>6 aooRX5/|N O&++FsD R%&LZv2*]dư-%ZF|"(hҝ3e_Q6Ed½v'H[,_REM ֈe.dwf|&"\Q{kOfFt.鏣DhZoKk5qG7@GO˪A8+_4#qlߓ&ț΅̰U} i$K fKƝ%g"E`<3vG8t eܓ mY5PX%Bu&2]9Z`f.RHgTħ**{ބd<5*AD󩝼-#1G nWڒРy,)=B40K-DtδP&K8!y#aVRw+n%S\*pJUjq&g>fZ]Oa,p|Z;eJE,1%K26td[ۢsx9j"¿Y \TfB y:QhvsҢ^AE9PMuBxw>Łxpu<:\ձ$A{HO%mug#lBM7MK.L<[?'l,V^Mb]zn%]ƌA [FG`T|N>Eb''/h$P)JHBho3)QZHK*Q"hH3$ù?q?ۏ8ӆ5d?ji|d|vʈʭWf6Gv,'4qůRg``qN`q-,NMi"gzݨ 㿡(Æ[_)5Zg$9Z_gu8B{Vw\X"'Fws=8:c#ӱk;z4Z^_NjbjlKeW⿇9?O.)/ne^^0`?Z=2gz#~0#~0X#W(-OcgucQ/?oG&'!ȋN}@ > t82+c6'hތQS([- A !95,Qq/]6c s0HeLBS~4j&c93O/Ym4P8˜nL8# ߃Z6Dw@!^rJZO(+=wK7Y-Ó\b_q+1bTTBU3A>SIVr,Q7Tfz^1k9U#h:FGcLH 8+$IV]Eo&'r*fI0?p8ma FE _*L/R٧|ɞ6; &,i4Wܑ$ $=p$r$)v$I8-xP3ȶ{=pH _؝a)B!.ڿ-    xE Qɷ~(mP}*PV1@ʯ|P7%2td+ xKoɓPگJeH2O> 4 d<۠OJϬD'Ł?-?-6:6B q(^@@SU?^GV @o oXC?`F13Lgf (#jA1pCU _C n!t4:BGChOVs$A{H"TIjx4=PMӒv  WUn,WX^[ ar1bPQ+2_O` ' 0Thi>Һ:HӴ݌%*dNa/ ia?y:Ohf?_i[CU2f$r 0狕@&V /øHgbeSfchAȎ儢 $_7[" ٝ"ɦޚGU4ˣmjvV C˞m(r^De$sMH@1\%IAEE :FZE1`oP|' 3ix̧v B6tҕ%Ac1GA)HI&F`ZwEE Bz nW V$Ga$5τ9n7D/u8np>Ɋ>W?`Exr9:|z8CđL|8 Q0LѾTZzA6쥹&=S<&R5QIwflz7<,Im/bG&g;P.cX5_)H vK$cIK;rU@! B-pXBJp[kw`cYW\P[0%4.JY9] # *ADRЩ K v/_Acx} t,|T&s?DG\Os{: n???}upqGi5e܏m-b!7})p1.|nu-`8ZuG*֡7f8\&WbL_PB[52V<0!J!l^AN מ/}CCd"eNHy Ys6lІ{Iag Xa6/T -XΖ+TCil\3ռaB4jxth0<2V s*3o1ө*l# qGqDq4r-zE^\LKC/@@*KwoTI|`<ف-B^%AܤG-E FZ2lPdӨe/(VI#w˱>wV OS>ĶIƪ5sIcߍv3(&%t4s*8'x^h<4Mi 6gs堋1VkˋچR՞[>ZMM*cN/g|rjB/9^v/IB$\m(લYuR)&^k(>Z(%L(|G3(I%M,|D<-b *f}<MWh̔x$f* xHፆ:M?16m21|E}dIAI*/9[@2tي| nX;ڋ0G]2rhw>f(]7QHnL*tmgK *4+4*]47}-1KitVAyCU'>6ZÑDPXOJ0p UeI:1 ^9TY yܑ]}Y"@ir0JӍ:?I! QUpU-6I,s0 iHNd 7"bVWḶ<hPl-RFp.UڅA>SIr2\)$\Aʦ(joR%U)IhT;u$ lkz˛2v?D^$/I΁@I+XHD '/r's?vOg}J&:POdl {=S9:AnCwq/j`a10.ea{\f_ĺ*bݷz&?ӓZ~q``\^ XKТh8^$7+gNA3q1 8g be!8kgkKY/E6[}o̚lRr8X?Å$5 {Lݺ{Li=잕S_ѐvAMjo=BŇqB.[0# fKE Ѭ>FVo?epMrnÅ0HuWW#F=IGW#tB{l_ \'IP`OvOkp_꓋"mBPgM.FsϚ`YjNУ{&9WtH)_R40fCkv\S=1JNfufB0H./?勒|'7sk寶:Ԅ 'Ec$5@2bt@Uy\@`SB[Z+~A]sZCO#?K(ߓܷib7[%m[~[,L%ko0vl-{m;)rt(VSm TknD#a]!O&%#3ө2R[(E2L -hHbbo AjB}[+GORSVZc1 0skFPđ S3ĶOd:pej_cǓd=߷vfru;3[}g@*_^*\oӅEkm꽗eCH;G\G)6 1N뢫wawY2ߑ0o&yCv 3-73 QCo ;%B \߅. w'kl[<зZUa+-ƷxkvoQ}'3Aoג1]{=,l&tDlehcUVwXJP&uT  |JHYi$?UVp 4s j 0Ъ, R|:4ZB"6+ ޤ^;*EA 0 08@KkE軷V>m*p|\싃RmRWvz{y@뚚wKR0S3.E žPQ,G,Ohh.nŧ)ti{2pea|jlB(ZgbfPM 7gD[8!g,'z%+4Eewg06 p O_45(:?!Ʉ49eu{j[(0з( @C7|f 8{&_y\VV?[Q=IK> `0@۴0 ` #Gh1Eh7 d7pj⯅>m0sjAM nPNW:r0ps,^@@7A?㠿u@C+ñA+6͍wLnSP.G9Eq=V#X'V挃P, 》ܲl$i=ʁb̖4C/$q=i2p\2Tl@FfeSxs6Ԁy>} 0*CR $U>R #%GToL1J8iѦWQ$9j:{BͦӔxdP0*ɞCNOk$m&$ͧJ04*>%(t(ߠ̗(Ž(/ ?^>Oƨ y)rn$tR+*AR~Y:yMNIG rXjkMw1͠" 0B rbexTҍ$v\ e 'x#gjoPG'w}T?n|\+b '?!V|`l9i{3 >ӀX7)KSY>ʧk#ߕg98)U!i?FYSjv<գ{ ?2:e`@ #PC -g|wGAhvߠSe2H2ĸz_bT-:|`FO%KL3K1ێ4 ;D't)(=1>IrHr| z _Ұ$axHISIjx4+`Q.iIYO8Hp35f+ԋt+!xsŠ\H2_O = z S7joWrfR6[q2Nڌ:0;IR Ep3MY :?OR\ #@?ml!!_FVs 9$e*Ih~zl靡Og#v,c[߷JYo]@߷@oo[lX)PoB$E3kǁŽ q`9:"yܿ0!ŭH?a$ ɀ,.b6 '|r,ͤ g{*Yljr9HZ"?} /U+^-u+iX1GyD Q9DSC-h! c?XF(/R\ 0 ?`j]Pwe.Ew8(`g7܈ФfDmiܟp,|BEoF?b/CܟFk~O'bXG5!OA,8GT;BȟVS:&O1nFqr#&T0q!M[2Mm2 qc!x8p3Zs@IX/<ڴA@qOZ<pёɘWeF4H`00 ``V0e0 ``؊D TV~=p 0踀 kqFte]11ˆ\q5 <]0rwGa$m(n5,u8oAa#qt]  :?\Di~rYs8A`yK@Y3kOG8υ9zDU\M 5n'fΰ'+Dݜ33yRE+͈$:ctdwhvۛ֘h%qa-;$,_6+ {dx'jC? .͌fqf̀p3nf Y973?Mu_R3-ƺZ&0uL,l[WCZ#mJ-+L0W ٝ"ɦս5PA|ej:ELm2 oh[c0H͘u@6NNoSfz+{`%é,?[''rv=1JcOes1t1CDR WKtT}Y-t֧0E>)+%joFTДlL[RhafF'8M-[/,OG7;  &E7ۛ9`zK+*C#Uo;Ys֥Ï\+>};w.?G!O$~~񃇗{}7gzݧ6,>^u{R>K7x1okW6k?|oye'ݴ+^믞¯<__}7.ͰKk?[ί\[;~щs=swͫkX:dϙo9u]7oM_|#/>Es(?<͋{nUy҃+=`~'_x饗x_{UOwe'_7^;??>qwf߰ꏻ~w/{ϧяmym>|;/>W_zO٧ӭ x})7}/?8ɏ}s0~A3~vēT^/}S?3?sbso?9~KN~{ '_|7\憵OW/wϑK>uΫG<ٹ7|:觮)snϞ~kʗ՗{NK l>r,m{zk?g#.Zu?z|~|gv^k3C]/~>]Oo>po8o?ko='O_7r]GW^O;޽{}wO_sog8W_ś=»rA ~^/[OoW{w<~l7^6tgNM=z;,sxКo4𻂏?qٟz#+q~c,v|Pzl>~o{k>w%PumY RI+5c3V!e0ƌXZ  좴I")J7w f2:^s}l?iqeKGxY>ݻLޗpx>V:IJckj\׊1y8Ζ:L \!?i'翭A}^G%/nZ~? Տi9k??ȱVrKncQA ]1euO^?s{@Wǿl59ԗq܁Fo_odtȀ*$̅9EѬɵ5,֘tTCŦ)#0>͜Q7ܓOYUOO*OM G~yX4ՎaJj8~K8lf^Z|T%a;룭Mu2D|%%aa3$`ތTQtI vi vE#-W|@yfj7ѹ=Ć\,ŵsgp.-+['_NVyz^r1)V2825eZNɑ9CCS묎Z/ѩ;!92F$)~ыV;5dZzzܗ1"}*<\X԰3-~t*#ɍ}6%:FU_- a7bWIz:(|͞?R>T|0*q읓gj2$choϾٟ5 15Q~ɩN($)SJb) Խcu)W|+(;h lG 6.I*=4{Ru_TnܸXhwf%o:8)#Bݞo;GۄΧyժCdT9 ~?D>6bE߹IR5j4BӞOdsS|HL߆*w~q#^O:\sZ22atAl}{7v*<ɬO|Ȱ R!}K w8^|VdE9]+6àwr XaH~Q7=u6.cnZ h;f9N>_4m 7}EexɼҜ`B^>_#:7%euaWݴӯO#%)I}?}F\9%xnNg.9*#R5HEvfK,야3.jOб=^8]S&Y' q[DveqςʍCu8G<ԩYpw gn3BZ~MG?$27s"ٵ7qD|)uSq鐮>6Lt܋ƎM.coUܤwS W߈wiI7?%*I MRJr'/{yO5tBm76/.T0Gؽ˦58 4xGE3Ԙ!6\G#"ҫo]9rwT 5;'^45̳sM']OwŊ?**!l۶=6=HbK^*|<ȥT&&ύ{k(glb9݇T8o^5n؍MG;nFyVC>}gDϏ0<Wv@5ԋu.z`iYkWk}kQJA}ɱ$tĐr/H:-85 1f!9"%/";?f@DÕ1zw1[yfpPFdnyJ.g#7VLSqkŬJqsⶫ&|~-2iKKNG$= 5J"71sq%I9|BκoBSΜcL/U23hE;9).Ur>w ven=fLH)%=DRґ7=-70+8벃LOzD?uCS꫿ csa׼bt-l˚.?:DJX ~gjS^dvXR:m>]L4;R.MpԮ\I,bxq6ѓ?N%}/}qK8k1qI_I;'XFUI:=hl+t&oIS {7%s6DNP:b51$UNurP[wU$j [ %/?E훙GA}U+m71gKI+gUMoRk\LA%wkXX(Sߔ y&r6ύ<3acS.3dU:О~ 9֨ {aȬԉ(UdmSVx'?E=SޢvgGmt+r9EOwO:+_mW?Uu3 i9K͹wJGPW/}3W}y`9ngW6_dGjM])pGD hCj=[k0C?QV\pYjaϛ~f{nƠe%Y!Y#AK̽v5^Eڜ07>ZFa5}m1kӵn9l)Fށ`_{L\X(_3ėV?6X{ʍe2Ÿ;ʲ̈9o{SKϵKo2(_%wJ{CF;jtI?7JyveqtOuuLI%M z ~E$IVVfm6 5e &S8_ tyt# ]C԰tQ{Ƿz3F˻pDe ebAqqAX>m%7cH16&x I';G|Y\aq7ڲ'i2# {mr9U5-}ܟMb6y:OW7 )s`M^-Ec0 3@SȑBTWwW&᳟{W+o}]?|Ⱥ\V,52X=D}!&\_{xxAWvTQac\%5c(AeS .]VLGT3 gJ/32z$pǾ(Ywwg=7o#-pݵ.>U)wrwq9㦝eꜧsf!.>bf'JSSKZi~sRʐ*pN[BgI/ _v'%zOwm: Y(eֆMK"?|o|ᛤJmOM|gͳ!Fݲ\xj!qde֎PrReE_Sלzfk Eɐ^nN:EGE1&xtg =vco<||K3IJ _hGN68rFTmYeޡҜQJ㕒K6gIQ;Q$ƫW\qNQBѷcß|?\ql}- ʆJ>cU+bHzjí>;{ ^8+F,4)#fsT/Gs׊fG\ U' c}T,,Ne{þѩUƄ'Sxg<7#嵾~6'`wT*44])6--mD݅s/]=ѳ`X7^*{O>zfė^Lz{c&%Qm4Pٚ6D)nx0-: K+T?:cbo*J0(Nq˹玝O=VW}e ɓ+[j/} 9(l\_qV[!s>#_"m2|iލvvs~I J)x^AC+ތ12pO{u JVnsjy1y+r(<"ʥRu2;w`А^חv|ND~ [cu&ўO=0&'gGt#oo&x_VN~RWIC/T[*6#c~kEǣ'lA OY.)vL/Cᬃ/Z(܉X-^5kKO5MweR 9uB>X2f]CҡoIII[;46GGGWxЕn;+I H8u-;. O/oPIǎyʣ-%CXH%tšiUãc f>]I?*'D0?`df#?Y[sjo zlGT~zJ|*vsCp _wHUC]C-ԵoFd9 .ȧS5.7Db\/o^8 c$n۳Nn&JS,,,4c"B\&m>XIxh6ו~_}Hͼ7mZU{s"6"rɀ"wo,&9Ku|' 9j>j'uP/w!8#/OL,v&[̓,^o8ȇS_#B&Z{9gv g4Ks).ĭX+*^)x_[FIXR/40icƌ $"o~L'&<R3]\N5kdk)9pRu/erG+>3Z-[ޣG/kFmaYbG_YN zBw, ^OFR$~IO:55H^_ߕ+WDEŤNQ$LuJU?ET-P2Ls"""3rv hF-EQDUbKéƫo =_7, hYyr_8~JlްkoOAaبJYFPRƘ` oWRm@ʤjIɲ[U[TJ[.ޭSsPm>|ܜ^'eպWpNGUR&edžbʦǠ?@}ɚ>UO%,*,V;&x DZbci#–x(kx$7 y̠ץSJ]m0#LOĆ]_x)}\M x\~’%K6.%YhÑ nyz>\CJS^S!;D[>,{b5P1C?* ؟5}TR9񉨧Lqpd69ڌ?Wf=cE+L0!nIY-YygsɞD.x5BEj-_e_R{Cm>f?B[-P?sDrCX|KbN.ZnO\^\̰2{Q?hH̑#ncɑSQq.aTNQͶo(^gjᦐvݐgrCc,cVW@΋:ߌQQp.ZA./g?E]5}zd2yӫ]y?}ƌN_8x.)o뭶nU%}i111 "MO /2ܶ0&e(4E5gͺ[d߸_N;[~^Pbgr^\*v=.Iwcw잼eW(o|:#>V%6WuhS^DҦX$ ^~%R\i棇<*K() W:>Q2+){oA۩,F.zhe`],R_zG&:"²t".B꣼ 2+c|#FHSqZnMݐDk\Z ʯ<"KZb D6\}+$XjJ/;` -nc>GMeN^Ѐ, Xn=T-s;H ܠJb4h4]c˄]:iehYjsͯ^PFM4?$^"X}=HΫHmwW N{ShDV?{ }>,qnQIwBiL qmh\)z$wq%3K'ݼR;ώ.Ì l*XG!n$ w[S5 h2<@g'h$1*[td_~n}'Kx}p$I~Ap~:`Fȟ5vIݾg5Ģ;?g@@@r0,`[ۿH pɯ\0P'|M?PgN0;h]lsa߁TΧBa?F]q0$"(ϩftp_ g40"0_WXEyh&`; KK4y/mdP"} !g^G5^G?=@/Et'*lz(,?d E/"_jq-Ձa$QQAdɝLd43T OcW :צ/8r-_{zd|Wͧ7Šݝԅ0 x=E i)i@9vi@9vkvn?Y@lwl,,_fN2p8̟gi7Gc[J+/ G"i`q?"8>|ٴ #|P>ݔ4a=ǞKȡbxĠ9h>d=`Qbp: <ե=M"x8M4Ji=\ӻ5v_io'|ׄ(B6F/F@hFF:5ۼXX&"J⺚c 򉧕5JFS'x0S[s@ɛuk|M 5\&;E]ouO tOxp8~BqM]4q,A --%4hg"0kAka[J[?gg-3>EB EcPn4_{>s Ygyzf2Fscw h,0+_7kbg7!`o 7߄&L7Z#`o-[|V8߄g~oO[wso@s|#m 9s#o1Y1b[i4v|+a}}}}@,l؄3vl횂?"<$R4~o tl@IbW;ǽ̰/6%؁E'a0IPVfb2$kH&чÎqx>8Ϗ,BmDΗqo[ǟ!(7ۂwKL77777 dooV߂ [8Cy:Ш@m L'92+,m@7K(BXəKH(@H69[3a sEo4uKz A^9Sۤb0ݭ] |mtpT}"."](? ^pt0A,@ h {x" mF=*VX ?QOKHG@{|$(f1AvwLD@$D@$/8 (3JchŎ}[ЉT"–O!S/й߼k{#t[4=].ӲHfյrc408(P}uf $CUJGsl5]}0-6P.NSgCq=l(w7,h8Ƣ|'mm)Q{}P88ă<QV?gc[D?GAA_oX/gH&:.wPHhE1PuV)G ہ(6h^&m'C 6 6Yi[q6ki D75{1 9);~Q(/2s?lB.{9XZY ɯ? لey4Ue am0iT"W=ҍ.S3#:aDŸY,Pfie l+3̜bZbhkTP9D7ju(hKwJ)nRЍ0'|?G_EPYv Slcq"~فz9fH!f3[58; RM=iP}_H텻BskzJ S5`>C Cxp4S37u֚wj<-;ؿʽ`/6UϺ㽛AoΠaG!nb@n)8@8@8@8@0  #O~=]o ``_;Fbx{SڏFb@)Rz=oZsnFA"́?= Uv Y1e"dEM _vW"P~GiώWc?w!oURRT{wth7tPnmyFh08,XllҬX;&͊tC$Y2#I"dK$s$͊wA߀p,G i8k2@&$5= <´h[J?——sciaSf3 ;4kZ<M;-s89G,|64Z (uH/}>G@hciS۪e0uFav(t2Pvehe =A( mA`*ZHV@"yS8ftK3_Ġ̀5F(Ȑ6fSCZؐJ7psD:I,HcMdx>BjArAeAE?/d;t*Rp(/ONiwR,ؓHL0 A~h3?n 2͂02"QI$Fg QAo)oOl3b'ECK}+`? ͟/&Zb}T0?]+X(C-A INt':)6Ә0,j#v^͗CHeg65),Adamrw'"Hex;/ ` m:/ȟs$;"daf6(_;ږKu#R;n l - PzMa|Ji 3Ң ln%., onW  M,"83k-c= F~8l PP&ƀ=73B,3Q\O C80'1y K W{Kju5 - jt1,hTVrv/|z ]ݖǫk>s>DN93\h=3L,!9Z(eY1 ()qT*lue2bU/#U\8"'(cm">geUbc;Ez6'AZQ)aG y9\8z?GMB[kCuy0XuKx.2VU*OP8S1ScbC^ Aֿ* _KN#Ձ; ;K,?gbkt~6㒢[E:0#zտ?V:%HQތ_YѬhFhFhFյ0S*R#.)V?1e{`3d܀f8p3/m3\]DݤGHxAHD6C < xV@A_/?kI哂S4!WGjd_iV7$wu/ / / / WH"Z8.Brщ.cR:]Ŗ.XXc p@'I  vDut(?|R>ϐ:uԧ#.|@"g8P`SX V j4ǓW)/Q¾Ĝ.ccb[@YϢuŨz1#<&x}> ? fghDgX|^W5Tq`@\SEV<>C׭|fg,0O ~f=qY\nroϏV+Mr4VyV[sdCMf7\p+ HtЍ/_&~Of_$6_ɾP56֑Yt>7s@@%tFC+%(GB 4DM˾dpw$1G-܁(lj:S:NdlÝ"',S)twSSJ!$^m IIER%!*5$!pfW +.( 5`*\͉='(V;2jB:V1GcNPrrCsƜdː$i(9/kh|rmII*#52?'ڀxxxx@=xC0=>@L<v;,dd:m<66>VIs3:awe %52?Q4`?X?<X `ϯ:?OrlzӶrwlASI.;pO+h™UKpʠK"8@mPkj Pcz'hJ(̉HNc9E_X;mWTZ,b$2<+y:`J]чB5f`56C|q fA('c.xSb:LHrrdRFZN!ah0r\šȀSNDc D7K|n~1NG^_Gt-oyFz5KV3!W+))0H?vy4GרJ#EY~u'rWE:>i>i>i>i|ҽLZLR 1}w1>T3z_g\{/dXU &cË&cmFMdu+BqpU ZJ?)F_=:dK%IPt8U wGU))j_G8=c=F 1ϡc`U4~^qIQޮ_ @a=-Dwհ#^XA 1PA !Phx> Ght bHчMA~AK ez] ]h(3Π(2PF7e6Ia4)9 CLkZTF=ObeId?&Pht!r3c'kkr o]D]Q^tE_n90Dfy@e&k[]DM3{%RmbyEƄ7${MSs.,уIO2nN7wШ9t?y@feA/ew'N\/SvT !, %A' QQj?jYR Vp;V!H O\G!I24$t.O+蛝Mƀ*R"jXa1(;sGR.* $*LVh 2t Jc 97~$/3.4*|Zh$?cZL C3c&2MbѬ-%voV4c'ى&wrf7\3+B,ɉDӋs<=~D;$@?@[Gz\d0yz,f$oh+fsz k&!yIue1j\I)ȦzQ:/|)Z2!SK ]:Uc;-!7[]jt+No{Qb^9G7+(VbPzWA%cÞ~2q]D(㑢|Y~uѻi[ZdBXAkeE5au]= |Vv# EBm$.R~L$i9Mp\a/y:W) oK&294eM@6fqC uFq\u:eO2K9m <'B F{YB/!FFk+A:%EY~u@z@z, , , , ,وX<eA\qeA\qeQ"kا,R=CS:WT_\R#'>ԼBL5y ~@a 0af(1Ѷ&4:1hѲtT&ď $qK ܁Crѽq7FwjwvL/_$6^T*H*M"MDC*`EdNRɉck&̫gt;pe?#aȉ׉ypn+d+Ed P풩ӇWoG %SLtΰܼ/ɑ4\UNP$[^Cnܹ^xӢYp<#p<#p<#p<#p.5W tTrJvO0C 0)))))6|S`hqeA\qeA\qrZMYĨW+ &טbɒrXݽu{2_:ʫ Ȟ7NRʧ21ӕ$qCPa I`jŅ44MJl&ƙ R3H=W8\!PFb ݌y4eq31D;14۹̈́`åa. ӽUVF%y_jFZQm[XT#D†lv8}yB9[€jnJWx|P|nU2`ռi.ܥSW[|8x ib2JBStOnt%d'Dqb ZA &e-AcL,1 }?[9&t(Κ}@y]O 2y0fKq1B$?PyD~%?2Nz@Я.m%$ʁ&z蝌$nRA==Rw@dOBP] #z*W+$ӎ5;$Q4bIrRp1h$oFEӈ;?N~3F@@YI|cv(0<)oUOW.MBsJ :md.N I5Zac~ Eɀ'r3m*_wbg%jF{Ydڍ&n[;$^Ds`>GSL}uPS<ՂYFK3g:%2>^dGfVxe;}x4E>!CKhNUXJr@bTevHoN ٝ =#HGN/Vj!k\R#$tS YW<@??#ȼZ@? ??k(*\rV-h>vcMBk4GʠESmP՞SR3E'bFEtքœʫ p,9R;YmWTZ,b$2>+y:{X чBPF<&ҕ@ejɰy0d7<9t1#[LH"Px)'Z9Fim p`1:"ij+KXUie3rѬE;חew'A`Xi9%ʟkWi:}JR# Ɵm!?ZZ0z-.Cjd4˝[>B|=H8G` >|ԽD.TGW> tW.=<4h5@Q}2.uP)1墅nT?h-q (( {>4, ^4RXTx\착 jA?*" pWoH>S?30$o|F0OZ+D3.3K:waO0! `C'ϫOWsi0JrN.vڽ |({뱟d芢zHjDsD3,8<"YIR,_BlҠE?GAFn/`m n 2tpy^&^Py˄S 'O9prn&@؇ VOc>Lfl"=' \!0 |%jSϸ$qj;RV#4*BL3?hukR#EYD~uӊ$ؙ`?8 =ÑQ16 wMa%\2(fH_10Ól-\9-Z.~T53_l%wJL&S*tW(zS=ُI!T&HV$bK**.EI, ŀ@/ܾ[rvR1 H͛\IUYD`,9h8^qR="ã Pxb2cB 'FXXKne|2b%+Ki0EzMR$cv^@4kroPO5 }n);](UE5&aN"4ؠzw W";~!|Qyr+Cls\$ĹKzpgEGRgd$|$*LVh tbJc 9\teH )I5.4`Ɵ(]Ќğ'&k!WIh%͘!h,T/V Yg:ؙ \יa9)l2& u> oJo9iWY?U&3% P Dؘ/XW(}2lir."FPDYfvTe 1P1\V-)LAT걗U{Z>&24(v4cRTg f1xlK2Yܴ>MwTe[s19}ԠeT&&.tъfܠL,&=Fk̈́Ddb0P*fN$_ȼ- >k)$&+H4ko뺾*])?{l*AJ&EpUJ# rf0\̚ei1&#a\M`\k!UHz FPq^k5PJ>>AV/ E RwSt ,6W,6!t#-_j5ZXH1XBz- %]z8wDV>eqHoC^n3"A!j |M\L/ot`]kQ)TMc~D") -)^uni0\Ѱń\c RSxuz=H1냝=CkPjÿsh j)EϝCtFJyV(c^Z=G&[ѣ`!EY ~u?#Y?MA*3>)uI5PBޗ6j@P2_SF7X2ZoodžeB*~0P5,G0IrVB*jR@G=CzujPR@ ?#?#?#?#?F1<3`G`G`?Wc0N`KPD܏ }"ᛔ7) o pRdXۻS.LL4mQ4v`v`v`vtJҝ}3Xc` ӝb؎)3Gk_oʔܛpW93R8 T9PǓh` _VWɳhn!bx6:EfW&qISe,k*пfяd7{m͢ٹmz}[޾Mu*;=#w5Tq{_ غe/nN7꾞o[9#ŜW6r`i^?CnCrMVǴnxGX!o-;?l[,8?zpS=lݧGθ&o/Ox6&M57+קӯNySֹ˷t}iBˈ sӝ<+?\hiUNOlMDŽd^}||g>g˦Kޤ~i#}m@N;Rs׽ul}‚?|9T 80:nYN }r敫Vem1[uB˄o(ݲr[F_5'~Xv;oZR6&zfMͲgucXzú|~޼y~v_'tgusoz|C?t?Ծ4niV9Tm}&6yx-m'ެ|fc6?g=8m];/_t r䧿1O?w_fli7uxY[^?Mm]ݶ>3=LqvMG9s߫eUm:xe?!NlŐSiefweinoɏ6S6 76m?o'vͼa9y}.zrTܕz=}jM'* m{ս\9`G+O5Mu|ԨʚpSwԊQ~9r[ʆ /رϩd+{7rzmQɽ^mmyg};wzm',wAO[Oz[xm.W<6LaKy[{U5;v_IqwGї?sw }**-2F9~iKG?8Ų/WZyV9oz =}>GŶ^=-};;}Q5Q9?(n9ûw7k:)gG,yc{jJ:~5'O[W^бw?J4Ugoc_yoO`oz*oqJ>Pf9m9;߾bh;;Ճ䭯3oĜKw8OvжÂ?ϙ9^qƑu+nInvo'@Z˔{]_%3eQzg?qW7~}5?ϗ9ҐD'xSyrף_}U~Յ%bӒe3_13s+k|紬sz_ư<|׌pU/8=G?pe>6kZu|3y/<1I%mOk3/d>̊^[ik5NIi\5|p7﹧AݴMG3/z-H:4ݗ{68r3>sw@;w.F]L?o8y=.+Vlܞ3Dhw3 yO[u`]k8,yCGڞ4,ӑ䄟x0A[g z_ g؞P}1a;Ahɒ%Y߼GNKoIӳf9vU-۲fm~_}kQ΃;{x9#G4ض٩ 1rx@imu]ծL-h.ҁRv,ꘙ.́Wlj9/g_#~#wj{Eڅ|wvPp'>J-_v6>CNfEU. <ntxjӗ, ט›_^<7u#sOsS۟%K" vdk+Ǟqr-@ݹ9,r~g^owi#sࣁg j&~.S+gz8uPsF&3qy>7E!#v;U.{sܥ2-mz~nט2s>?t}Eq->qnoaw94Gm$r‰𣏤JݠՅ^3o=Y~\ٛ7VF0az2v||GN46{wǧluv- (HSCFj&wZeȘ޳y- !mp2MrI,jIo⭚1%{Ǧ%Qrs:u=zl˝[) q~vk\?$[ ho/ئe#Y .-~w ;^t[fҔ%KJJ:lyp괄JN:%2ꕢYݎ|~~YNQkj~βkϋ&/#G]{˯OJ?OkF33ȟ/&:8ljϟ֩qTwn9?|OAAQ^|u-wХMBg=d;pl._{{cB}dE Rm Or偢wB i/=%O%th 5q]_=,foP |v~qXdPd>y1{bsttwBY^MڑrфY_y]p!}F8]]C&[ܵKsLa}iVQ#v%Y}s:}%.Hzz%a h"ŀ4|$q #^\ҧ5ZFNG.-1}+)WF=7{uiCC9\Xׅ]{k#N办; 7<~9\oLl{HZ0ߵ`Nֿ_wރO|5`ÓAJwWMX]|H6c P6g/Geɢ{GjbC*E+ZZSR?JxpyF6dxۯ({hrΐm [IŷW>]0O9K< qdޒ<|y'[g/;A_ǿHl<ŊD=?$9ur\ 3k[sΥ^)QڷyRG"Z}5(-Ԥ'ˇ?}J]g̳8nK4}k֬Y&ʝז P-ԓv&'YRz~JDju5Q)6M*~tK~~ٯcO#­<ȡ+v;y¿I#Gtc]LڔǴIfa= "f^m9.Oڮyo{^x+v'2D<[ס{{Ϣ͈Z0еnM͋m^};Ώ`{.s_Ih̹3H8CqE/5]\|r+_>O§'j%LLLܕ5@ϡslܼK\ݿЈ ~rX0^o.yI1̉{칤ʥ||eZIO%ࣾ^m;>L_v=tˀ}A#^lksss\֜mdg{:׏uգ.kE"ї_8,NE;&9=hFeyt\l<A.]"V5D/E7T%G]9k[|+MJ:*Q6Z쿖t쀥M\nㄼHo{;wĶ5G_<ّۏ#|bqQojy'?ߢM~wɀFw/m>OZ9|&_gZs2Ya;)㔳K/^vR^14)Жl1{5)i=4Gqü#05ʧ3n-R?-p 6|=3~ʚ5S_~^ҜWl1K}C&'u6Ĭ76hJuUD|3v1ȴ1ۅ-뵺h{m-9nm~t6~MeKovcf 1kK"٠ճ津8޺ljr6s!XA^Wg^yXry$e[g6pxV8'U-ws17v/y|?̼Yl>,j ՘2ãc[ĺs \vGڤؔ`UAW_C/_ba_g A!6ٹ7ޜvɡ]ɘݻ:^nx:#zGaw5ot3%ۆ=wwro`ggglp/wy7V~ia掙FMtx¬WbmZ!(xwFJVG7Df96>pÂՓJځks~ff{}L`́Ɠ1/]ogD9IZ tLer8LFühv@eD%zjL&cJT?((I"M 4J@r"s I8L9GE'Chj /0'T*¼}4_~$?84/x 3 5H RՀL .WfT#!ZKS @pM/󖫕ϔZ"\`q$:zuR W!QcooVIx|C*ߛ+ɚ(;^$Pbp ^5@bfAFxQI3-t[:Lrƒ~&A!dr9+J16vS* <2FT]Yt8 +AL yVCT) f't/h(L2n?I,:r:8d=sixļI( "q/jL9*a> ܠ{[U `ނΑŕvuJzE"npdBC0L!- 9g"#w>%3i>Qh4;PL~C"-Ö 8\Ə  f L1\cP gXX;Kb"ps5FiRpdʭQ9t?P$Â^ -Ăp( |?"_(з[*Qo驂L{b~{+>"8;\% `6ߟ/ Cs'\8H?<=Y B iLkLX h\Fq1ȼ8\ '<`6%@8,( 񳒒 =}jL2D)׋]uhkus45}Y xGňK1Sl`P@cpdedخRe[ H-_ `-$^âLmhDB42#8\qP-TOR2::@auU#KI&2pBMHƳ r4859#TT3A(d lrf#I0Ks|z"\XBJsSb!R95DN%x-\=ʘ`= !aB8p~A|pF}~ /C.rg0` tRe,hG8)01MLZBq!LHEb(ʉ8>W|̦o'B&# LjHVN,'BzX`~x`?`q~`Cu #V)qx "aY$t1=z{BIADa@8vbiXx XJeJH=1Z!#VA5\#+a@zIдaT$ÙlJRwߴI8;DdNJ ̈E`';hQQDA(BL: * b1LwB e% d| ]fTI@]ZT%&SߝnqZ <@5˨ f'tS ?갚 CM>BDHHYV2V&BDH !A$HD4$$B4F4LK!t:YØ&ŗ )ʐJd _#(2dȐe!Dapbj!A DR 6yAL"eQ_"+P|+PV4=!Hk7-laDYr2dC%gIEg!N4^E2~ziϊȍ%Tڔ1ݭ|cF&ݽ |*x{h@W/L:oh+y3dƀ G\$@=7}+6;H/ W%iK^,ǣdF"cO^ _'? BܫJcL"Xz WKBeYW+#/"/"/"/"/YYn[ݼ%Ykn>dE_deaV0xLUocY8~W\'P* ^'FFg#roᲽi6{鞩}R5%|  ;n/$% ?2QfPR`Ĺeű<(UlIFIPHcͽ$ Xom*X&L.DH-:&XVEdGdGdGd?ջbq8mzN ueOI=?%Fr-.O $l5, o\FuG*1znPݙPg144EMCcq(0F2i4 MF|jӌw*CE=Fyih>Wk z`1JR+\n,Sw;T<].].fP^~ۣR{z?PytM%˨`3 7bj%Yفn%!ݚ&Z_08 j%YY /Z`oQNp{o6UM.HCe < L~Xos @g N0= S?crg}$ɀ1[ЪuGZI匿0`+e3M?F6R=* bf# X B,D^,G^ZLx0 BP( :0`-`NMq`5c 15MD1z*<2;u+ǃ Ǫ Q㘉 Q*tL"3A¾ /`kA0w&ai+>YYhZsRiJ!Z5 Q[*WSXc˭%JnN(A53bjrAGVHdJ"ef4Y,I ~s/gqcrhhzPp߆7iQG\zԚVʫ̋5Y Hp ܧK,cԼ`? P]pBW=R HÕ$Iĉ uu.cJmJ f&yCW 4= z=wR&6%cLX tCUO[+erkzff^DdGdGdGd YQp`q8y ,2$f=rA#}GȻMN"g:,Rwm 3,U/4bY(VR=;'z (.Dw?tp.C'$Ftk#ݪUd !g&< tmL^wM ;NWU@kYR( ;;1OC7vyפX W&ݪaȴ" ?Bp}e*s.$R,|[m^CoN/:p%6.2^2W>;t)5Rb֔K#+DG"Vz%b1dD7;F .R0(`vWhA.!qL4ⶋxɦ w-5tY@[Z0FEiQP-Pjl /4*Z# q7Q05Wѽ %KTNة#L|.^" /^^Z XPAALWM^Aǁ(BNx-Rh\&i 8l@%J &a0 /ԄXU.\X]LvN ΄'.m)Z)Ɣ?`"a [HM vUON<ΆԈʕXY;i2MT_R*VAR!77Ȇo2T JTf "%ZHP5qJ e MSWZ@QS## tqR Ej@mjPl"N.]+3I4-@L,F ${qxEKDBF7lQSHIL e,wQBW-r0HUH5X 8P%y@sr\u2Y?IfZdd<΃٧@PV huvT I@&pP!Zbc:#K2RO$%[DɈ^`$7賖GwЭp=2Nҁ7Ȼ1³P[z< 4 7X0H (Xe,''N=Y\O ȇh$gIJF&u - 7&nP~@A] cJFEx n|F'$aWУ:"RzêD4~:.K A"$O/m*V"/>M)eg`"'h-%ĕ ҁgu,-:<;#oL;KT*rddN/%dר7(ˤ\vJ3 @q*Mb-!i$ Q+d 'S6&D!&~Tf}e鄂0i1{3`C1=rF;4ȅN4,s%2IU#}*'OuV|vC cnJfdT6[e2ڊV0Fv7`1PGmzE"@PA (ELjA (EbHEA(]ny#@wb@P : i+9P&gMr!"ZPjB-BE!"Z[ 9¥o[MT(KUl29aso#yX$n\BeK,DiFcq;6><%U`&i+Et@aC$Dɲtzf>L;da-`JT?t7+Jgeoi5!VUjCEȯ!"WZ Wea_o՚hD*5|0I壽rY:Oc|}ZaVѭ[@@G05 pax09q<p-b*O1"|:<3[;jvB._Rb*OKk-&jG|/SC1Mg@>^r2dm @aPwt1L(ե\ !ps:5 (HmUjִlMi-BӖ*K˵**y'rY߁ܤyKWcsa 8\6. |H̿g1Sq[1owy֧kuT+(_WͅspQ4ێ03J(ErHEr`;|"݉2@:@0&z ۱O&D DG-uwכ\YF {€Yh񈈅8&A EyQ0:u+H 3> r2F@!Ҡ0UѤcU{fFȌVj1?L+8t`Orxǁ3% P2 Aq:W(dR?kUǃTp@M814Ѥ*y0KD GKȇ7&$ZU?0~~AOL4?58!2a?'\m#%rmE#i>5u%Vi_~cT45RLW$$}+h((-. jxVi*ɸ4į*j|rjR$fkU^+B'++|5WrkQsEmp,,V|֚r+dV6 kTk}D$Z 䩡9[O!s9˩T5Dfr$.#qH\F2e$.#qފջ|(l)+0꽑 bɢU sqzhU0j|HQ&gNu'0dWBD :&u,ՖJZIfh*t&`~p~p4&z ނh:-Z$Cs豠*YVC>NcWAxh%6tzإrmw BiLG6LHzNI3M#K%< F@%I0Zډ*:>0*vzGF:V\%(`?Gp|Bݪ D$2ZT OR] U;SYe(R'LFΠ0Zi>:o )@u4*: 'E.xc)&,1^.)&B;XhcIu9uYhD``5Qe!Ѡ B狚Ilٚv4~XlY6j43"SY$},$=suM03HF33#OFď^{=}/_\_5n`8D[- ?h2G@ࣣCn\/@*dC Pg/@4Vo! C,Sۃb=X#`6;@C[\N tf?/x@QyOIx 9!+8m|+B#^#3@'| qȸU,{81bSݰ7EQ:m1~wX"pJxE@;P>Ux({ca}雞opuN32Mk\Xlfy#9#{7Rv<|`7)c a_,5oz2(§ ;]) -Z}mgC⻓+\ wTa7,5DCV>Oˑwq _͢A0L.ak{Vz%Q#DϘ,*G'*kx2.㫬[vdj-?ر9--e _.>s~]_!vE۽Le p)pwv4'rYUͷQ)ӚJsMi4vO[i4XʥDL22$sN u=&A$ R+%9f晈ɭHLf}ڶ}eA)i! d 5"ZUoaLJJJJe#JfA(!(!hE 7?@KD-.# P% Ѕ0p]0nf UQO`2 hVhL/k+:"pr:jGJTy^ŕg49ZM,ҞUaX"2v4`-A2di!82ㅊh#)smp%g<4Q*}`|0~?UŵRkId|G ]sZ[|ף?&<&_AZ%feeCw^NvnHa{J*MKb߂F3*I%3"GN/BN/dGV|dGV|dGV|dGV|dGV|Ȋ^]&veb]&veb]&v9].uSV }rM-t",^ܡ{-ލ8@~;^q f,Ϟvh_Vr٪g4σ9mSI{: 5mN|PW>0Lk( Eg;Js;o}ͦb0]&hYt\:졆Q/Ag!'*=4?>=ˠo鿚u<)F* E%ϔW5 ? %'FױScwx/,{s[|^;`t%DYxhXwV|Avמԇ$$Ss,\͙]d2,pvkߎF#'Փ^qǮqcϱl k/т9{Oe6C&Y~{JiL/FX%~0da4k~I("Bk Azdg)X_ow%iO|6:ŝOv, '8H46#K|0{(ru,hQ]mo%1F);ESwN){s}BSwN);E/'f}_۞?QG^TF);~823nD^}:c+wWMX ) bڇ#xza?}?NHL7.?>݊sk'?)IOR׹ .^oIJ2ּ2V2YleK#w2!2lEtuDJ3PAGeplpgR>AZiwV D~?}HO퓠HmODk|[!}HCjmW)yHS$%Sx\XU9h9 9^:v14Upuu1k]4!L̬wovlt8y#pyH SȖ7jT:+IL]\  5H @jR+j%g Ch$%.vKӔ>"Jw9TǜbՂ9YGd%Ñy-*? W 7 6 6@6ծ`FcGy(~5yщi/AK %4>\G/&о"oϥ"[皔iZ]^=ƥL0lIbE&$9e>Z WK%kRX UJcbhf@z0y0n埾iLYhVzl6`wo3L $L4x[Ag Oi[Nɏ85<,9nRAhpFͩ^py? iՉOtġzy)[;ۼ!b/@1#ny?9|뛩c=iզ7$z(iuz)YC.Kw``|NY^CHuYX>%35x}dו7NL|<9ɑ#pH(ŏ8gH|SUgjJ(_ŽgMn:2#YwK2KE}_'suO^-..0k^CM <ӽKpCߐ/IϤ$ 9za 5GxT ~п\Zc!K xFKPsB$қW)Ses^ 9{zǙ~37a oON%z8ܥV .9 93qwyfFpۗ-.c\ҰLޛ>~|dz{'?(s{4`j]D\U  gwz!,qWW =`ࠬ!€p`]Ι#4:B ׊PzxyھqG8?~+o` ̑!_-E( ܫ0'#[PYmOx(7lbn}1o xSw O\?rIK Z6ɭGkg_zK\=ϯj}`*S\m'wGOa B|Ϸ3=)71MUv&<ה.CrL[N ^E`"j$S$3>p|ސ)F7еG{gyJQUk̨?䬩m{,/݇}c/_UZwH3* sZ7Xw8N g }~0D/pMXqAXy-+Hp(y-y>Fn=$[fu]p%?2nLɍy-'ZdƽƦ!cp#1`tSG$`T=t"VdА(ۍ$poxJ(<4T*R.>0O:To46TJ/|B|cR˥'R"u,jMC$!B.5!p5!X/Z +Y¸b5YǬ  SF)k> %ffȜci?E*I%s$G8C8%$BQuWVg3k4f-[kadh &)u<d<`op7U-fi?gooju mo4lǞGN?NThttU,G'QQ =A'(Ş{bOP =cOְ w!2Z. a5߫I5dg[=Ags?s滘"Ct,ggKS='{?Z#jPUUg&    $@ ) ! ! !D\!P#GC-" @|ae 2֋CeZܟ*9jΫ귢$W8%T῭>%ut:?6BGp=B,|2!JM@"FHQӰI!2!2!%L@(d+q sH gc"1SMAAΌ\c|cV' Yh2 _6w[E]4DI꺺MCDc>^Ev/{B!^ DӼhrdfAff!n#ET[d-YnI{[ٖͮ,ң%FmV,=,= #c Q%{o-IU=\KR pœix @kIV@m¾{l - #vXHCj JBgz=!Luވ~Tm6طc.MB?;D~`!,jl;Շ{lK1h`(ΐMrV;t|!԰o!b9\Ō`p4N ͆r95S/[t[0X{sç?žNPj?3o!hԺIi})њufAV1 aC_DzП?g_>vz~_0~W0ދϠ=-۞ ?;w}p~8Ƚp݃00GvbuD,'e *)\ ۙ0_L[fB%r`ܞw34W7>YoГ-y?xU Sq D^q(/&w^l.hӥu[ab8]n!"V VK43`xD5U;ṈrkXs`oYo^0ʄs4n^*~&.KDy[GFpm^fgi!do:M~ wȸ1%\' \DKs8b4] }{!|0~08"iL|s|@ֈ[*$=3Rl (@֬YYZ,ґo)Y@$Gd@6d齌_;%xx(.4.'@z'@ғcR_RJV+ESֿbRj_WkF濊{w3Q˼udjS#߂O46!1Vk_-U5&BAd{K W ΆoSIZ_<@dxLW=6R(0QF {?&x:V=mU_E*YT~q`YS{ {Oa)}$/"?`aoߢif?/ GdA%sq?Ո"L/oG7OwT\o[*ҪOJْWnv, q^5޷HD7X{6]{tm^0rB;MZo3~V/Wd|d-s3%SԒ2lj;5#d DjR 5* DT٬D BHK\@HK8HK nE^^D&)lRr]vHaIθd dWpf 94vCcrC(5N!]pqJ]b(I Fxe&E᜙ﱙnдrHܚkQ k lץ]# 7:I"Wy}6 A#\fx))=[*eM3v`y@Jkk%2翘u,Z'v7;6*R#H[VtrT=i**I%#ő# >~XZ_.oj%dJT~q,Y `a,Q0 F(X# {l6ycR/N/+i3R(x% vⲱg!,HlVnSĴ+[)?|l-|82aʄ?aˮcKZ1f5ߍ-*]= A-̄{rt)z3w~F)`'ԱZuZSS-MFi{pleU -^{Ks* sO:>!q| I^5 Nϒ^*-vQbƾH<<3TTWBϛŘZ' XR}aS %?$A& s!~337{W2jbjq~13/ Mxo_Bv^E$G@_)~{w[bzJv` ޸X PcCpLE3_( /8u1. +,T̝aQ U߂zdO^]בXW:}{r(WH[4ٙ}@A~GپkjSxɽ8{(j5xXG "1(}8:-2{lΏ?}g;xvD_6axw-_RKG?,7oGFJoOM 9ݢY KM+3;!] M{=ܤ=0{Y|7͌=p_=ppxtN=Yfw2pN{__;OFLi9'kY jɯCKmù,~٩{XׄUrYc̜oF֝9`#{`n1JSc<@aq𜑑?.=v}](ھoMGuT+8LSR[5Fh"*]*;V;0/e3Mњ"׌j(8Ɓ2E{`!ƲybHmuUeLj֘Y޼2&4A޻ zخjl3Sm7ȜwZGϥMǩc"1etq)deC#(7.&΍5:}G<-?imN)- ifA_U{<L ?t]mD"=30?-Q? }9Ȁ׋dr(FU)OOL!%u1CJQ$)uPQm!Ea!3Q~vum.E\ry7+ 55ļi]ms{>3yO/j;Kń\Pz{JL(k^r.'pfd2:?V?1 ]@%E)H@R"(xZw6",yj߾NB ^`$]`WR*ᕻ@^>9Q/Z; MRHB7317 E6N` ^EN ӊdp0drfÑǀA8|[˷D_3wh7*<+7Zr#e4Ң*Qpa-<: #C tl8v OEe)рku64KMp\8(>ھ6ƨUVdP_)l>REk6[^Y EkDjԅ99OsGWeVOdžk}1&CwU]Zf{W6_'T=3%pV ޯ{] wl s>StNArh gP:t jë.0r=ds߄Vmf'%T{OS<{;.}gXܙ~2nZWqͺ1vnac\ۮI$ܩű97cVU֍=N|ҚeNխ 7 g-0`v7ykNur(<ǯH`* P?[7u`4s(#=GȞ $5XqKt+ҍL!d.*UM4?R_/'jM̛r`~gpt|h]ӱpM6u!3-JB?5OFH/?"_8&=3ߤ"Op/A@(ʄLLlߔ P3`}QC5МUnvfuM3Zݖc{,fx8z'!'uCVS.U *~6p^׷/>l12=S`dvl5|Z.P_Pkpf~y# JMkRLʩ2UY/V2ڱ(nq̠v)n W>&Y\8狢sDa4>\dQIʞrGf?*I+D{AɱԎB>K/Ti%2cٞW9wDHy!6?TUBKզD]5 ;nEҔٟAROqTQ:s4-zq~zAAWCc|5OyC@v:JR#H>_ ԦNT2*|Pa߻Dx*hE-Z#T:s2sǣCn&A>ࠂeQz|Ľ+Ǹ3LܺIL4N»<30կ36LA^gi -^yw'[ S MRxKX}gA oZx6A^tmJ !Q贐K&؁/!y=%yYA &R6Ѡϛωsm b>JŇTZ^AJNScw|}{gbN߼6 N0 ء<S|]{R*hl֌fcQ\haߞoR+.GsmWn"&~]yƴ&pC6㠢o3eqg&=X=o35<+&u>z,p}qMELya6@ڐ>NM}.K|ڟBp@W$=J!ݟa?=2H;a;3^)m :V-Xbۼ3F4SxA .NymȁJȒ8=xE.fp ᵹH593M/9mU`qphuTRTLhfK#o%iEYkVhA@2b#ȩ|>&kQJRb{k ZV`Q&kBu2puRN I:)\'puV3 EC׿ӰW LY7Оr0ir"nžtoqm:5oޛ>~o3z0?(s{4`j]|\O^- ]6DhB-P/_ *?2|\y>+Xl5Mo=)A&ޱx1oq7gE^Hjsd*vpHWgKdAEirڲ~冝m/b.>`ܞw34W7w6SĿ@ɿbex>s) @cX,{탸]+Z(i{t]˄|Ş\Nz:2!4323ws2]Yj{ká+&}RI'Gsp/_ԅ/P2./v ]?rM8UZ |ts[Wx9d `AyD>Ao ^&;q)iZC-; vkz&v`6@[V0+SO ^01P= ޲Rr-XC0+WxtmGQL^#3X_Pddy*Nddw^ln,ݎ(/{g[q^>{m^h2X8tɾ͛7;~yˏ 7 i`J/GDklVpߝ\Uggpg dmRfFiH*\~45$ۖѸ|ZL\ ӧsv~xvN{?P*}OIv2]$_Z~ɰLD~6fLY0̻,ԡpe[PW~-mUD! Eo\Sf(]܁=נ/;%(&'bd䏁ϓ<9沒C6Oaniy2N3OƆd; \H߇'&CM.Z!E_uMJlCjzߩ_" މ̿"={'X C@"@  `ab| @Uvw֊bgN>jͧc@r$Lzaۻ]޺w5~OK 6#l`l )Rx>ϼrXSUFDV?>'P-n(ILAKA uiskyĉC"-e# q6LTpF xvTsu\Ԅ_>_+ x+u;Xq5a/P/gátĶv s~~+ä*C+89{pKyp77uxc̢7q8\\ wO?JW5 -sx T0rY۪iڎn0>vԹ[tZΗQU|p[q✍ߠ]7wy D2ЅK_Sp xNFOJc70%twZ\|y fΞ|ɻVӑ\;}@c5Zذe\H&߹;XAF-R eE}2'jsiOYPa^ljtbW?w6#'C'''%'@OOy/r 'RK?l[̟z-0hz}l_LnfZW+Rvy7ݧ/ HY8yR΀k-( Xn9 7/;ҷ/>_- ncT:B~%/93]pJ2wꕝ$R8ռِYX.7dqp-QK>j ȸ1%m`ކC՜hI|046Mk@҈)5DL2L!_-.UBEMg,,,,| I=S^( gHG!d# GXFF6d@69ŖQ]uDմT)'<^ADޣA䭩?RP}yN#HL7<>HHOjRڟ'? 0\ݒpdK$#|H5#k/Bf"k=2!3\f"q]E_f:(cF)JT+*C(=sr+V濊Tp޹ZKkGjIWE* "Wq  !{7O鿘ϺYq*:G[tW7&lg}ٚ,<X bƮ5ٮ5dZ 4ǞҒhFG_E* )82t:sΏM(U,۝h_IZ-K! 7 x H) v!kvB-N*Q__IZ,{7>r7m^1nt6D uiuY4)D]4 ?@XӄyQz|k J|s_v5{jŕwh5Wfq(~.C*Бd G@g5^=NLw`!xu[BugVa>ƳxzE+]L14ޞ︉+3{ 4s |o}ͦbvI%؇ppwp^yc^:% =T32Oh?0շeBW6$ϛTP84)ɉkқ^AJNtScwoO\9^ , !8˃"&+BӬx<u;+_>qݵ'!y1 Cu{\p"{= j]tՓ^qǮq{äϲyrQʊN5 vUFa(?40i{Ċ! Uk؅߄4;1_s)hBZcLפՇ c9.5^{lwS=Ӻya2'E@FM6%fx;bP\Ѓ]y燵Mq5{p"DN%V\ }`tጅ Ѓtpr6*=rbNlk0k0_}>{P%"8Z wsx=,-(  '#.!l_bFs=e"xpd.HHK7$y M lj3##p ߰l,sqws.& W'` *n. kr8{J%Y*«T0\Y۪iw(CIN1mWi`Q~v#I1uNgjww[' uC)q .SD!Wdeh++Ԭj82*8=xgpuY@y4åRUU#4i X,y|^iW;fiSI* =!)=9fO̧p_qf^}e64Co|HcMriD3"! 2K0$ʅ>϶yq'`o{>?r*TRoZMok Ug{[m"l>\:([p hpG@pG@p¿q[ \1Wllvb9 r]//im} ^SYā5h |>3Iy`5F^="Xʢ-6[v($⒣%pOQ#9[39l΢oZx%vmg Ea=_~q"Ėx%TlPQfPChoxn5M  A"p#caJW-6U$=3ZX$'?IOjRڿo FHlgF%Y6<Tc8"d2Y2[.XFƼ6Ug&w#5H @jRhRYAųGB\wS6[ȷĺO{$-M[ |8| mWs:,@h=98 r8ةq&^:ܴ`@^ e/-EvĔ͆:q!”u)*{bdܘR+՜hI|0h?6M&>OxO~`p(u&9J&\ow̡4#[71oTh\~L'?IO%izHO^jE 'r20a'Ŭ{78E<U;A(\ku`Ki FDfQX!f]j(ͧl]}`MS$4Jx{tM ;GiXz=ĥK<}z&O:rցVV+hvk䟕Ar:UhG*U$ AYt_z^;T7]&{HG5xpUm(ؒv5բv L&DxlnU|_Vf ~?6yWȵUr'AqU[W\u,ZN*I%/BsG^ػ~ 4_ ?ZQVI%#IHK*%M(U91g."_ӊmLO VU ,VaaՄaj1ȫlF 3SY.B-3qwr uR$v?Yti J]2M#ElO.qyayͷ!70͎ވU{jő7Wfq @ @ @ Ľ K\QvM%it[\,_ݼewg$:;PciFR*lNH LZ1"_Ezf$>A=xʑ#>w:8A8A8AJ u11%x1V o@6 [shݱwʱ |ke5hh@ku)fPnSO,"4iݣP(aEO <<ʇ*Jyۓȭv3}#r7$A&V#l'QCV/ٞ*{q R.~~y0s0ngtXι-{ <_+_U4}k/D _,`c5 ;sl[J."E/npynq`6Y%&پiتE/D{6s3k]rn#veb]&veb]&vTv@68[_X³1oPYqC@}9Bre~y|D.jJnMIv%P._#W7 i˂Nm\92=‰9>bv<4q;+_>Ϡ kOCb+9~Z. ].'ָDq}lKb̂[=~w~liݢe޹kPa(?40i盬ĊUb(  ƴͯ; EZha2"gjPC: ޝlwS6>Ӻya2''F@GM6%fx;'>O `@ ;v|Ƞ؇ P̈sMi{1 irF""a;c4I!@|,~&^5-7'n6e _'3^hZB]ttf.cnrJ%0Hr#n \^CVȘgyz4)+ԬyeU}Hzmpy>dK} D F _AzfyQN);ESw9K);E}/mOߟr(E_BF);~/lgŃg /=ukik'lq* ʍڇ#|!??@Ayud[jC-I*3s1IO'?QK/xHOOV/2o ?/! #?I>2˘d?,n^1yA(`S/5-Lr1d@P]!@!@!@!@ ~~~C PO *l_Îd]4,5Ճ4-I'mU%6#ntЮڕBRŪXUbUQ*UE(VŪzj(+.L2.L2.vMlsCUZ\S=W ت7c:3fdWamߞs}r7Qe&뱷 (*&P3h9܋4 m9p1Mؗ-*;PѷGjx?N>z\1ܞ0.f,׳*c}s6pG!7CoB_YzП?>c&;Ҽ^P7-~M#E <۞ ?5Kw,8`1oqW)s/∭00GvbuDcH+<}B&AS<'#ەFZRuE,޷j$ pn[/nK/70e`]^~q?r!41"Q!B|u_Op J2!CN3Gۂŀ~sJb c!l/[Y0͂cge"A` P.:V3`^k M'[A%Tq ޿C>]@a {q _Pddy*Nddw^ln؞ݎ(zg[%^>{m^h2X7:ľϵ.||E6ی]~~ܙe4;?0ܻ[”1߰/yT="C .ׇ{ؔ^!!.л0p"ȡ}+$cZ[~Foik},av [3+! fQA\+܌8QYslw_eLPF~/0#3Wm iQm)Kx"b7Y 1j}`*SdPONӽ3?ްqU7_/ӚJр皢ʹ75r;L,A?)A*/$,$<ʓӷy%'4O<\9i!jr7npI)R, J 6i7?/MKIIII?믋pU) DJTZfKš]1luh "<%X<0cs%Ẍ́% %g|@-OJ?WO9\_[g<ǕO/껸0AG?R{VGh5H_"!+i+`ٚcO/Y&rt1f3].gnmiy=3-KS MT,tGڙ=Δ)/TkxdQIe%([ޤKY)us4q VQ>q/&UyZWJ wփC浚J)G`kg1 7π XB/a[ƚ<:~>1bLL8{>_.cTxAJPhI؆xl\͋r 0'<%NjB7Q 8RYT2\QtD5\b%Hj8d>ˉħ/cD}be!2Z5^~`#e6p;&Y~{JiLiJT\M\1i`%j!vz"g!rb/@1#n?9|cV6ir "a;c4I!@|,~ Ɖ#4*a`gjJ2*7N<bkSTѿ=+iX2ÈS n[U}9/)@ȊɊz)+j42LGf-f$[ YGmE*IiCeп,lUmjwWI*O\^@ S;4}]5Z@`ˮG~7ahji'EZ0\>Q&mL~`yWJ⸄8t**hc:(i$|u-8eKшo%dU~q"8 @5+I3]B(H财?O ?qYZ`Z O&lYfd:VMBd=cH nHblV:ȌJ 2CE!/BHθ_`Yq*"NmTmNQ2}jR)JL2)wR 9|_\:([CSISI*Y&Q~q䇔=>eG~HD~HD~HD~HD~Hk [N vDZH {o8 $T7777~-8bӑ0 1#|u tx…R >~ ;B=hK(Z*򋗊7W_hhF $u럴@K ZWOD+Z"-iH DZkd]м:=cB BOL)4jhgŚycdop>bDk+ݺl%l+OKJ"R==I%a!iyU+ZhSȖF3HE9/ 5H @jRdha‡f&hr*E~;| 2GkB}2)2>guުVe{;r5[@ױܳNw$(Sk-Nlhʮ+key(O\.: lK>^2m8uW]N{N D ~[|p?[=cNE]sF dyI;ތJQ0䣓a s'0XZSi_#gvQxl >7,$o/2/G/ ,]~l283L%c7ãC;Ir`Rh_!}7C]8 k9GSh;Uw <N5zG߅jI!H;\*J^Vt<0w^eJoO3ccz3o^]}[AS~;M7.*2ƶZ}hIڌmsX3!c,juvxCa\p@Eb]Vٟmvm aCz xkbLk/ ۪*pYRCk^p.Gr4Э4,9HVa6. tuQu>krD[$ K*kzu K / LJ=ĿPqW+/C伸ӽqKpCߐ%Z P$=^lCM(j^N=dh-]K+&l!5g;5d/*FV LG-`B0UtIEI6IV}1(yr<+a\M<'ON7U&;gʱTPV78$    ^???DAю ? ??g:jhޣm m64QCvKtлzpw 8j;Q#繓TX'oaDJ3u:kB`[ƚl0~>޼`P _ܼx ?FQqMK,4bVb[*[p^`i!ohM~疂#ȸ1%[~Qr% gqlh!q>>? VRk5Jh$ƅm3HS\/+Q+ P8hO#b-[KH~~~:Q%DBRl}}SqZO:!yKBj-=9 {Bb,vz\Őv]Swq~L1~_jKY a}PiCA.)VQ˵GChÃÃ- z8>Mf]̵\;NӡG@˕2_=ۦ$ʺZZƜ-G/Cd$5H @jR|6U>+5=ϰ/I\8|q8\w p̑ޢΫ$^u^%{G)}5ba7XK:&U~ tPX]vmte:6)Ŝg5)zJED∯B#5?HGB3wkSWp)Q^*wH^z$o$kݛ5 IlLQW;:E x8ߺKqV E~bQ|gRO<1BiXÈ3V?rD ,)dQ]α:<虘(Y)pd7q| =~IuL!0yp2>:GX>DH{&.d)ДCꕥXو6 ////>d@ dKdKd G6&_-ċqY^GWM{4qca|1\fj]M+Lk=L>e+]TF/ePY78T O#Ɣ6)h\ADKθ4юA֫IS6<%㾌:thH(CȶP&|VIP keB_!](..3rc8Scs0S̫/`eŅ5I4]w@uk7U$F ?ZZGoWI"[d@ @i~Dv|t2!#2!#M7idF 14b $V9ܣado),4I 5m26!;u!K6[]=a%wovE6!dB6!O{dlBVkC:$:${g"b@Yd'6ȴwl'hd'`+N$X$b,lQuf#H!ۑnI^=AiEjS'J3 ;O$7Rڟ'?IOjjFe$\%j~곶3Y#,Ib; Gp G*2Y_{2Y2k+r22llz$9wO 5H @jRTVrb!?G .r$.u+.#?2O!߿<Nc+?i /֩*b&w2mKt=l-s=l4JFlMY"xk~Dׄsc΍Ouo8ᔲ̃[lg%\\=2ݲϥWEqY'Ĝl.dp fdhxuwEO0pׯ3rm! D^ V}14ޞE~wN .9M9c+<pVT8!/81&́7ޝ /gP ,' ;wqM+Jf"<|2:2d/מԇ$$%S뜍N=Ts.8gv= g{;{;,XƢ>ä)ߞR+.Gs0/D̅e?,Әunq8[ռ3F|<9%~ĺ eg,~P6b!PFC >c bNC*3-IO'?iIO'?iIViI_ IOUA@bP2D>4u@Dl&>DCQvqq]n. $ƀXD*6"UoqϿN,)C%Э'OI)IOR'~{uFKV[x5x,M^:[؎'2!ӑLGbILHf"U/31v+I?؈˭󯷚*R(:6Ԩ"[|]LMXOS5aR@S}[Ki( oTo@8k5t*f5aQ{m#dé.kw7 (gE}k01Jb{!T7e\u,ڌVGSiWJ6J*.-ZȕYy4C*0A˺\=2B#Uc\$kbB:.߻̓}'}~5Au |jUτX:ZoWw\Js;ќo}ͦb*,c:)] /c kOC$b&uLŭs.8gv=ϰ}S}l{gGG|}z+5|Mi,˖aLe޹kԸu(l61&M|ҘXq9#xh6pa7am4kPD&/xƳgQc܃hX7nʾUcZW t8L^fҢԆ?( mF:)Xp:hoɓ'Ѻ[Pvi"Lz`m_Y#Eo sf &_՞yTձjWE*P~qr3B9%5A9}lrF`*xveV4T9U~q 8~ e- bhn>%UA wQ˨&) z d1P_z!JҊ%}{g@Jޙ"[h{Z*K?vzbZ[ziHEqXea-Ȱ][\p0[ 8nwbK:=$W&VuBb(sbs!{$}~fNxMmrY`gý{)   Q'"y?B .Be\7"XuY.Oq9!J..ɽ/{\`VxL@bdw7ӑ,s{>~GB) >,=reG@@@@C8ϣ!F4,Ma圠ѶZKSbٟ9.ÄtL\ӵII#2AլGRaoij]EJZdPqI?+5P S&)X?\yӁ<tjٹh_諶oY[kͮ c1~_`dO6k='m3e_5TMdjeV`nY=7v&n3s/cM#3NjܚkbcTa #Z4I&Yd؆IZ[+>5C67XNzeMdpZw2M[c7=[P=欸).N \u`\.:ȬM eHԳ( P0S?53`C{(aط|z>9 Q]^p^1S٘ aHo_! qay . bL-~.@*&5J\i)gl~Mb(~b>/\XB =kn# -]iff\   /;yO\s+{ Ykz-?lqD޷WIo\kyC9zb&y .K| w\ǩOMT@,%x)v(fčR3f* |ŴjSBQ8|sN*~Hmn5ql ).Ph9N4=ƶ \qq|`*%MNhsB H@ߋ :q=#".d#d(*Hm:Ͽ *R_*W9?_-_dƱ!ZQ("?89KϿ!Ci)_(v;U c腃?4sȰZW_"2vFmiZ$sP,3S3qRr>K_*Wy?GVG'" {g~ֵ9i* M='>B{d;㛚|r|_/(YuU4IT$HKXV}lJD1RM͘_E**8,0W¾k=h>mȢO2hu,NMJ3P(E(EP"@Q#@Ia, E(EPjAEA(SPP_b@Q le0ezÔ7t0Q$r$Hr.RKֱPiD A*3s!3iIO'?iTKj*'õ_d@=?t'Y,c墸q@fr\c[/f°{ h^1eE Pqkqqz=?Dz{Ͽu kN+IL x 'b1'?)IOR?:/EQ .YIΚSJ6&,QIxHF#d+  LDD$Bޟ19pK1eiߐ"V[%#1=seM]?k?W_B'ϵE*&(]4A @"-jY4ɼl?C,ib9~l1wO6;kk`  ?2%7vՋAs"|6Z[̮m6Z{i0},mpБPB~d^u LHdTg_rNK:}zʺ~˿wC Sij:XŽs!0-Z#*sMje:.f{62IYޤ E{ޤ84a!}/(LBDϧ/ěԃWgd6vb|j{\2IhJ&*RNVyןgnj<\=.=atzv3qbZCi(j=_K+3{ \\s55;sU%.p nAlPVB^V9i~pl/gPdΑCc'C eYxhXwV|.AvמԇH$#M뜉Ns.6gv=ae޹k:az(l6&7&M|ҘXq9#*Qsa7qUO4k["@iM5r06@OBVYg[oZ o33|}V.AY#9rA?< jpq#q8o/;`JhXׄ٫.^J K%Y-cظ [LhX4+LGf"%n0:eY/+Vo) //>(}!_}o1/ .bhZVZz.r(OJ7tb}WW9C|; P#|YGD[pijƳ AA64,|w\EfC[UIzfߢ,,,,,Jt5k,,`-7,ְ{dhE^d@6d_-Wůvq('e9AATa jS.=L/lDuHL=ݑڟ'?IOjRW_d25*%Q+ZZ}TgAd0B#d0Z!5yH."D| cF)JwWUB 3/|iz}nӿ=/L_D`jOcIln$;W&L\W'pE.@'pil*l5-a>=pLM E1RtgGS!Bsܷ=X,Xˠ݆ _Mm&f7%qm b*! R^W7AhmAvߞb;sVE)Ȝ#!Lˈ!&?BYv{<z;+_ cݵ'!R1Èun /\l"{a2Z5JD`g6C@~{KiL /L&,1i-uS@lFxq#'Ok1nCYLz / Ӄ7ϙy>H9ejON,4NqB39."Yh5mdaFB0˵; U//iQOhWV0)uf E6v{6Ob3PeRqVII_r_/:F/g)} 80 0O%ZC  ƁydxM_7̒F¿hyugy|0"0lav{,m zzw j\&l0Zt}y~ϯg=06) !}_郐>* !ZmPńMI؄% KQ#9 I9fqSEˍJnH).PWﻼ|:wyp=ߣ96Z;{Ov ?<̹'7}5~M(y/.OEIeq %Ӡ#lIOjRڟ')_;f_Ibn±Ž\a Ox1lDsc .G|Pl:6sLϡ (zh%ypZ}8lat?X=B7){9 ܴAMjC9g}H^* z3b 1 < Aw4OiNl1 |0jS#Ѕbו?‹ Lgf-Aɉ-<0{+=h>uQ4ɘt_w͚|콟]%kM܁lJkg]`:ZPg>z}G;Xh;F}>ɃqU( " pG<#tfUUc3n  H7<-[_Tj)c%iumbhzJO[ktGx=vuMi}p9Vnkb,[7/te߾|147/^ÏAU.̎[EZzTJ3````(ף3I1j9FDl\E)wJx*b4-Z^܂`*eR )Œ_z`Ղh:uɼ'4#wΔȝisnVȰl讱tF:m$=3?!'?IOg='?IOp"9!IOeAf–ٱ/Zb!=3d_/l._xd[iXϗVt^Ӱq?3C` q`ꜟ)~lϏRU?l1}{rV+.e[4vQ4ibF0:O3e8l;Sҽ%ϼ9bz{'?(s{*4`j]̐v= ST8!6pi`ܡ/_ z"=/;=?z ֘k}1^4^p yD6\*Cmjnppj; k=?pf+700GvbuD,pFNRx{bp /@l$G!}A uz[4فЏ;_NIc@l1l==-3Q7 &8v [7\N tf?/x@d lޓ{ o~!܂5rOp.؂}2{eό[OL\ȸU,{81bSݰ1EQ:Mζ?D;,8""}(_+RтevVopuNM;3?K_zG_^=A,K*慥}ev qN 6 <ж8P_І֥( r^*W?!Ir rUfF_Bh3L$LFpF ܂uEڗ " ʇ {yeXhZrGըzӢjO兺Hf)Ń]xu/x/y^ GLb0R<wP A10ÿrBsyŕ_Lt߿z #GTTwJB?2UyXaVա_E*)8r''pr R1_ף֦oUin: vNq\j6\W 8Ǟjr߲QWU"30v*Ȍ!R!E^eZzM &]ZNW݂~TTM"|A+8'p'p'p'p'p_"{rOv[Of'f_IzfOJ"L" (" (" (" @PG d6 = h}: !AAG"\#w}֭{C>}Cq)d+ҘsT/OJȤL2̳arςE$2bq/$7|F9)f2>آ=ի{r¼5 $WQ8>a+7@,$I @u%0$@dp75^+{ḏ~*W)cK/K%HXdAd#ݺ÷ 2 2X>X"QAzIQǶ7jQ,' ,aKFD%ԞmHԻ`?@(ُH =0c[-7JqqQ%7$;\,s곔b1dZ;d.rPKzŠ堶+,_2oJ#$8y:!O#\.Pl?f6\xL'?IO'IRߐ'?I_jE 're$f'? jLy BON] +m;d@`q2#8#8#8#8#8,.lU_{iXns$Q&mU6#zt<B's`JOP =zǙ~3NbaoOjXܮ ).F<B (f4͆t95U/[\aaƹҽ7g?|:?;ȾNPj?3o!hԺf5)*3p;jG37CX痯n =`Ǭ!€p`Źo#B~ PxVּcvm8#xJpRUΖȂt$.Z TVS.&7iڷ̊K:@;r{~ ޅ?`.{_08pqsƥ 6*WBɭ`μl;#(F@ +tV7Zce֞h-5}vCVe [㽽ln[Nrmc֧u1QD}?8u{ZuiKW(UĖH_KijH% |2NohzJTEaWmjoJ =z̄7QN E#j$$M<ʓSo#i,O?~>pyj^yV˃PռRKLx'rNLVىSl'C(~6Urb~pܿ L{4y6+s6s6f{+mޗ5[ca}ne%XEDg <<<<xWRyLL\"'Rr~#p^r23&`.d\O .8eB|e@|(s%Xő7q?c}ǒsg>AGXכkm ~"ikj,&6wJߖ37Np\W{!͓%TIJh7r|g뙓ޟ\:Sͫ~wrtvwr^ibP}9B wE† 3~_#{9G|jzC/#O<eqZ3< ce AVT8}!)#{`N|2j>GY/ڒ{x?6&. F琚)ܷ\i,%KZe l<9육곳:gNL=6sRyFPj~gT ezpB}llI9 }R_ov:-5"om$='||{ {`*z$ylYv4Gdj)0mD-i/5ﲑ=927ܪX8͆2̡jQK.bnE/ ˅,3kXiTlcu-"L.Yw32WָA]f\&~zvP~3~"Vn17c-!:bku7q'k#rb,p9^  n4zB!C̋=6}޹.sW/tt\/;!; a|[;d_8}uD`&cFw69g_ౖoeP% zo}~;IT rҡjڈ#Ea"ޣ{<|:qqQ̥5Z D,5K)+"D5Q|Eujt4C=)^m+oeifQyk:ORk4ӛ[t/>`c3WWF6n GF. [*BŠT7 d_Dº]@Vg4T7|fȌ@r{nWiV (՜Θ8V0q#Fg+ ).d) j`{q]%UƐ2ylqQgGG2jJGQWNZ R_xl:x$NcPr' KlR@pj| N1 Mξع3dXKl:ULƤm`ڸ &Fj(} ~ӉbJ%q f1'B%>NbkQ0qf'0KX41J";Kdr2|c{qG=*w *~ q>O z1D78.CvicSo_=?M'P™a"L>-w2g ;єGsjPE_55MiFAڳa<\o89#icuq7.7 KImc'6vm<R cImψԆMvI2lf(<@r3ȒUm'l w]0xMsw~#)q=`zQ Qv̱XfWL7%gG=raOr%᰻"W7Sɟ7ٟ})@hY@cEWk@AN/ήfd~7[ˌf3YH^2>Z1̝}̀@,}$ bff:DThJ%(W6+^UfS;cjo]\kvqLwyqmOG$aC07_]["L0a03S{t=a{׈PrrE17kXw= Jy6L&wu3dr_Dn0\t? T: \֐?e)zȻt0ō>[k1U/Yd+lIBRl%ddhOͩ~_7Lh= ڪ}5=ZpxφMl^1&&Tk , crm8=vq|?C =͆5V֌DgÀl 3gfH $\lRBWٍ.;*KWيCS~9_>^u4HEղ/ػمeb̢#LEkcvDrhq| "}շXwǑ1e0*7rl+y0 Zw0kOwE+Uuf_#HwŲ՞L &! 9ībeq dE1{71e9Ȭn$a ך\<g}cَHߪR)r,i="fSn$L*Q 0x%ؘŇU W^T.ycSlRٍ%Aqv5C@wGc Ojo7vnvkL.|x~u45'ԕ\>::-M맯ftMk@>htbO3X4Sƾ;%ߢkoeՁn7S_;z+2FSj@Vz{?2ӛGE}{P;cB1>?;6\ 9o`p`vY I_Yr$fB> \7]dzN#I6QLL(Jx.Jx.Kx.BKx.q$gŗ lBRLx.DŽLx.˄Lx.τMx.ӄRMx ӵ0] %0] ӥ0\sǵFg8F z[#5veͩp35;݆jKUߚ<+i 2 ,5ooUP@>kW!_s0#j7'7WZT"_ "} ] h|i{<)iW}Ƴ;ѓO;pn6UNs|}80C{2P<^^ W7YZ]W;+Ҝrp鼨EEI?NKl7: Got>g1Љ:x=϶= 4 -yu~ |bu1yK{8oQ$qp E 3h3#8iQ%Ex_0qءKcV2%L$ `KĄ]2o1`P;gX/fWW:_aMf}~K`c}a=JZ@074~2ͷzyh~߀X})/ϸ^G-llLk[tNϹ1"*Hψqn#5V~M e̩=S~mW>( cܿn?4 ,7ڎ|yYzCTjt[;=~6fwNû^c`z;E~1D%}1\6g7!LuڙꙄ~+>]_mgBze({R\ cΖf'"Վϥ2l'5H @jR( mI2Zwj*CKIpײRcHt%C'$|.]yBi\ 4- ٢Elf1uk?EgjO-׽My aG _}8)>0^k{dn n(X?8߻V)A޹uh6vQ%~fx͵F.T~J֙Z\cm4z'UN\!ϴZ]Q86oέFKiVEI~g@dWS ge*q XSz|_^P6GwAĂdp&3w>9[47R Xo6!B9 <`k Z WKq5X,gĴPz{ƿ7Wg'X!5|k6Ku6朩xK\Ђ8yI|0xKu震d͒߃cQQ3r!θ|x֛tEqD"YHh?``,If]M3 쿚DFϛωxm b>'/p;kw\ Rr܂Nm`ӱ\`_9&v }.LNK8ag~)(5Ț`@~ƺ\Ȅ==q{OCy93\i"{"=hyVOzŹ[ɝ9H^f q:skx;ƂQl,modOv(fM,R3^3u {ߖ'ZNnȈ%Š[%u)0 ?2nLɨy0'ZpmƦ&,p#\-q`tG[HݯI9! S %تl?/m?U 2_>lUm6$X# >k]J7fP. pp(i_1UYQiMz7ZTɄ2BBFsF"?].>T "xIP0'*Rm:v%M}28O>c|)/`-ctbWJFGyGy+at}EB?mfWjŪZ5-1 h1hMց51]Xh2̻}3AJ&bb*YF0 5i_Yڪ5$|])8“=TeGx'Ix'Ix'Ix'Ix'7J-Ԣ_͆FJҊ t9fRpV+{+ec_ӉI_Izf>]"@B$@B$@B$@B$%Ħ\PHH," $5!>`!ia aW@ejCeBI:GyJЯ`홃u,:z#WPI/knAW!o~ _?#;~jvtw~_v___OW?Wݟo?OoM[}?s/ wտToѿrou׿?w?? Q7g֯_?g[oՏ?W~_Gg?/_?g/ԿuWgޓC}_QZBIcbQ!6$cL3FDZٳ$!K ɖBI";=)$iy~~>;{{9{޲530ncO?~.8}P3S{Rx&̰L4*'s^ޣY22Y(L"M֯ꪵ,b/zPT!dʷWVT≤в pHѸE>;[ީ;~|y, Z[p@MFD+^lQmUUU&P5 Kt񃃃C4uH8wuI&B?䔗UbeS 6I\%2HLc<᩾%'X 7of/ߜMێSᑇmV=1_tc=kt\\Q< yh)ΕpvxI#AxsoM2QSON> IH#R+Y#dḌv&IٷȬK+{𘩉^(3C r!;ToףնF /Hhw?(ӂ0^!߲|(ڻ'Vk\"+'t}+ Vy#I-9V_)Obʧk5# ]&0n]9j8r8TaUWń=D" Hh &H`u+ P:ГӞp~KcHyͲ|CfӁ1.~ngqk֬1j#Xt͙ߌ=mq9;6psO/̐c>YnҡlٸmË9oN L%J Q'w#kw݋拹7Nv}{g:5"ab<.{ ZXp~K'$c9Av*Z?ʟ5^+/::Z'V5^[^ #8"J M<_ Guk 0ةt;i:z<-|ub7_6GQϞ֎Ioruꭊ2Bu 0T [kgޛ uMAM 9)-xh9ۛLc>&ymVzŏJl211}M1aipbm̆='/oiw膦MUّ6Řɐtbo sڊOK3X8tUԜ.kk%=FJ{턆Zo:EJ B|X7r@Ay#`+Dl[ Tڵlb9 [#/#=W$Nf5o[Qx.2^uMP@Vt5v<{9dȗ$iaqIᛌW<Zo3~~W]g{ 9Q-&£E= r2?PÃ--x/)ӘذeÌ^uG-0eW]U/TJ!}iH +$/Zb` vudl-mn!긛UEl `vLxn@՚O\{ꍲ}j_Ҭ~>"bp1y{%@Lin!QFB:ݦ}fZ&~z~5#ս#B5w lߢ+}mokpQEeFµmXfzqCv\Yt[#gfW"H4 Y[Yqd<+H≮?nWyO 3Tkf=CSXȤږo̫pGT^ƀU1Ʌ{X={T) UȪpy ejМQ+ɻc3X1]9U3,֯WF3sݲtij*rg$Lf&/PGfUF*i%v=Rl疿a~q34#tY$^W=7bjgxluzxiՌ*Af 6`{[DCB7*[Y@b柜<6]ߘ9$Ս3) 4"hv?>vUm,q,8,\mVPN7ynkgey%lSK563; [MӽOkѼg͑J:,XqM#3W9ypՓzR璬P쬬ߝ_>N*N7ߌ1[sW:OV<#f gW Ia_buU۶]OFjrgwC|}qE xd|MlGN9Ey."u_;+Fd"S.o^9|Ȼ7[xsBQ}V~WBR{=n6Crt%Fc l*_;:UR$:WOT`Dj}+r}]B{sՏ`K}:Lw`X;Y#>"^8gi0.xYE\& qzv *7OBV驵xKi޺@UGOyٽf1vSϸ5U inMAAY,Ql-Lbs!{vxۋt:)Q/ʹ pqm"^"}aHeY9ӳm)M6%shqטZ~~Me)MMAKMײ<+hDNSO .bۛ%D6C ĊS62ij!]?66tʕP;8ebջάVnұ 8 ݻ9x\=5le"{.03Ki֯BpDƽSGF-]g! HuKֲC'& ϗ*7noB/?4&]\1TH"bѝ!aUeqq,ZtLe?c|;M)bV^14Yxo7A*Uk7/z8sz` )[!Fe jMAJoҪOk_=X\}kEX)c.c) ˲GHL>gD9]Ÿ{8lJ6_κbiY^(96v*8uGݣo4!R-L彻QM+K27qzz$dIRZsRݔ|QrfhpVe3vJAWX&OpsvB4طX'N*lr佸_)FT-кޖz`bjOہ|pX^ޝp3H[3/XD6 ^*Ui@SB3X};r[ϝ J_1Hz k{5,BPK2)YC2VU[N-vg`sҮ"ùPyy[SOlmQQ9^{̎qiO 0 kCC#>)}^"nuHlS:l4‹7F(=ajvy'ibt޹KcKXLzWsr^I*yw$+@୒I} )Ǿ5bICxTS6M+rK7g9UԏXN^Yҳ3D=xFgw7pM!={;ռZp4yav]D󣖛222}\n:7(![xLXJ7Zna u޵N&2>YQʺE [xCo #= M]FENRY4,v-&uL\ n4rsUzrsBwzECQ>\֭6)x+Oh;|w7-ԇ6)1pcV:%CrùXYI__6tEg% o}|9O|~%`3.eL)))VرNُsBtGվ[9e,f46$pz$XvIF.nkzkY5ZiCƙ{\'i׆6-ڭvgeu ji0 ِ-Rt| m6KOb.i:,Sr:ǷohTwvd++:%m=% iX^rc=plSMqx4c8ώNDXnlll2mRuޓs6g CuSZX'LLSx^VhH'mr"ǎEE4&> 6}pzls<'Vqˆ--Ɉ mu(#;g)tFl) AHX}#hZ}p\1tKېT=PRK86>C鰋w|o#η8hB}ciWhO2{66![73QVe  t[TBZtIVLɗێ|.CZ|D|/&%z?,HSqVZ-҃~V;0Q3.+Y4w>Q]`^l֡U<.4;eU6PI8d=N(8nalgc10D֝I;;Iv&$[b@FK~vBGpF U x` 0TӺ/|f% KU;6)l˹oU}rJL/63 =A۷'}k=:h tuJg]=\jNJ+30^=eZVzs˖-L>" yd&q[@P]E;o(TF:BfyKR FIW}DȵیήcΩ˩v0,6L,[fcbOd2=#0R}3t^Zȓovg㫍㭫<-Rq^fjICOhxupEq_ׇ7b=uUm_c\Y-_E>sekBuß%V4_˫62rxB: 6 ArrRHƉϖi_1L[6+E=9쮥hh iF O߹\Clݾ1Sz'l6.y?P\o0 TgkC׊ ̼sk2&\#M_T,`Q|d%yZ艜5b9WEq*^8E\"ŽG4L^8j6s:=k$'~=srtL&ʲܛ%6iT:vT?pXL8rИeI_֥ .e_-:w}T%jIkH9>5YtC)H#OJ+jk.\ON]zi e07E\#[*-wLJNkHZɕ^gVluE8kwt5q}qC%%~$#CKSUSY/է?SjN_m|! 1DRWZ򾵍?DH,Xq$Bz+OQ:G) R>yY['@s:G-ETKOT?;A4`6K45_a)&_a>,g?5 3DMM"BuDKzA$s'ٕJ8i]: ;)# QYDY|%liWr3MJy2+ƲZ=$[` ;Жm,I̽-(vh(3W~v @I2cl_{ {D|c?v* =f0 ic 01 Bƒ0o=_K84@8l~a}hoLAu^P |%1Xrs~@cQ@aė>*|-&sD}w0/ό 6 x 5xde a)X pn|؇ 8]>b bK{,@9}-o5z#8A%XgO,yqF lv!\t LNp2ぃ'70o!JډhGJ!Ac@$af  ɍRྶ'At<%B(;Yߔ̕ q"r1> `0Ḋ|p=81Ewd *#stym 6PU-4(bd&CAdDqJlEw*3Z!N|-:giDDA]rRBUēЩЩAPEGYقJAfHd#ؐ/O98 pAc͟`@nEF%$TBB%$TB_"$x`uݟ%c9!jiqB DP' v(v"74?֒4 D涠}-I ja_rAjfW1&p<"JTHTH8ڢs8BoOZAH}cDM%ɳp 8aK6B.Bdj΃ӗY[B1޹mʝ+ef4j[#!U?u~>Wj?T!`>s%v>l%fc>P6s29* "JD I < [ ++A6 i6jz.9Y!l_ohO?" ?%D$T_vQɅV@ +1P"~O,e{.;8 .;"#O\HHQ1Pb(WJ ,IfD >SR `?jŐG3 ce&x C0C,-T'h!/dRwI/1Q|?nA|+n~ ̹E`P eCd](LœP_B?d}O'%"H_2D  "d߼%KKӏ? ^EĩWl,y_?|{3cX(^3Ykǧ'2o1^}=eXC, 4Y,zdkف&+Ͻ]_B*h"ZAp '|Dr  tVf˃2=µ٩#!E$)Nd-fmq?̺'. l\晻:bQ?[YϦ?$I1o5>x|klvh 3nCɋvzs !g \ 3,t> 8]bm(kPȜWйC xQC#;k_L)P%?xy{aaaaaaaa# 52O9c yJsfC_e~ .rrrՁ\!jD'.څBh}&$G̛srWRVRV@Hrڳ0- g܏@A'?w۫Oy,1B.#Em6[7;Q|ռVU /T7Og\Ug?_7Łf6ϡhgasjAI݊s;s?H޵n5$u.z|W0ULsk9a PomEѻ;ga ͓lD^-ɲSHyQ^###BJG@[m@i롭zh!䡜vSMi7ݔv縛Osim4q|;-; q]ӏ+!g[;23.>p!nJ ZK+"E2?#ƐF6ߗwPe ]xQ8N;0Ӎ@6<|8-~x|pB@SAX p tm}˖.P%B6J¯")&{=3x TKE5$uE6:j&"p3aaLIR:5l񨔤 sB*ه1I yITdY]OGjR_&iZ0 V+z)&W1kFh7`j$ ִRa8ie+{I[N%Z.U(oyШEl)KF5}}a j߈gUR~_,u;!HG#y7J?G BiG=ec_0^x}|XBiznx\%SJ3KI9Q+̜(7tI7n6i'w{tuq g?5Iqt+]z_@Ba VGTfx%$?^C !!@BBa ^. BB K!@a$(!@B ˋB€,@ ì;)BȇPzp ?\;Ko+oR*EyY.RIHxOb$: ̛8h311PhA@   F~ > 1:c0}8νK莅>/dv(B._#Ujފ^[|ȎoA=ّZhhe]пKpDb8RSo$vjY)b;[*Q4#}6|*,#S1J#s6 T%kMCːNێ x б P "b{>y<# Jʆԏ@e 32H7%#Do|cyGP"Z‚O K+4_IYr%1R23ŢU!:B|M+8b%!+B_1 ?_,_GH_\-ϏϨ%$ KbˢX"ei7,M=!7:X@͢5d)3R",)^ V/׈ZѦ=7!eH-F"WHa`/fR*_GxY;@ĪK# DVt@h )u5cz*ƇP׿!g[uZ+ osU1#OvC d=.\dP-T'+ŪGd%_0v=}w{L]aR2 BҊKOhUšIok_/uB.79vH&$Q&nLrcS7ٶ1igv1*!Ls6 A5wݟ@&7k`h/n3` 3W?84Cߝ|`@ Gv?aHNICe. gG-qmh~}:vp4= VYYwUX%A2Ԑz>T UW~mQY#R;Ӫ+n|XSiZ,gc?m.]hT\g8J缽q1$%SbH/ D%n E>j;~;.]2E|<溸ew"Z8:* sk©M.GX JzWB+&}Y\n蹧s?:$^:$j{ԾB"ȁ(f\ <Y|FS)&LD|oO'I?/\D}ts~۽aĊ]r+ 1Qt $#d8JgI> nqzJc7g +9f%0w (n;&7 Mo~'~n3 ! an`nȺ 6*X\\JI_q@qX/:iy\_ Iu&WPCR" E)L2Z͢k tI2E߀ENDHGB^>](&.x_,Z%|h`gy W,/l9ɖl9$+=mt.Rj+ROfJV'VJ&!Cb~Q*cLx>^$c H <@/DH1hQFi.z""H`HJZ˗Yv3?#W@d !ȓm@$Z!H$$+-|@@d\ :0 F,_\mdM<d&' ?ryub*M aG#-w6‘#Fp$!V8wxɲ֬X&Z _J'?iIOWSk'?iɵ7_ ?iW/#"?I˩-j2dL(1:Rv5%dꍾM2`V:(UBJX?\|'ɂf7,$t 4IT s^X.7S2MDɦI &IY]{UOn؆A6wݟ@&IK120auY 3W?jCߝ|`:aHNI2<18-3R1 iQ3 Ѽ0n̸H=_bOre>s14b2* ̻Prj"W_ÍO;@DJШx Xu,Wso/y{`bH\^ n <j2~;.hX? s]\ֲ;%9G◉'j2~ar;K= Բxwp2L|8ni<xXb eqm8a瞮T*3W\H$i.|*z=jpVL)m2y(RU&!IБ 4N\M1 BaۃvޘI ]7I= 08Yins0>H0 z; pyn UNN̜'< _ F{aWN auUaV~tXoϚ ٩]gIq{wlz25N'LJwVxY}xqDsVШ֧:75>E!wۙ9x|&YYx I={h>d0f7 _82hOpmqul3@1=Xx|Sq"WgfQ;_0|EpsƅhouO/b^YRBޓfѿO:zT`0z qı!ʄ}w=~JħgzRv 0lEZERQ+*lMTVfyYwO7Sh Q"27q&{&х\{NPL:gY j6 ]ч'جzY?9dd> & :]L-Ƚ'Bb?@ol8r#\-VZ@ K) $^e>3q=37$ ntQx0ϣw?/>lB9Kq2q;+-3|&$uAY~_f*s!MU=Fe,H٦7W@"<*G.nnGee( bpɈw򿫜G=Vae;Ue"OvOy䅜<+hv7?,J?Z|GR3BSєVY/ݘt;{Řm/&ٵJvFԪr^$ @@1qҳjUQxo~=fz6f5,d'GҔOw<Ÿth'*fn .zܧ-9 ɾWn:b~c(@ؔmM|OTa(_x$jdcg%/(1Xn[tJDV sFX+ˇ Qk8މ2zoƥg '\ճ=}?bFv&zqdxo6xSiQ޸T4]Xu=tW!?6;)ԝm8ѹ&]{E v.){- NDV<Ȃ69j ;6׈æ݇bRpN-Rܐ>s,D_)C4wBOh@ ;+}pVv n3;6QjbU-hqyNz}oaRRGd\ +gVY{&Z]:RHD3KY?̀IE' J؀Wtixp\%'xp&T PDTY-mWKB~#::c|@y͐BٯFqhW72J<#Ef.,v 4y,ӰvLqm&?+WW/(Y~ffMONtNJ /j}Nņ 0r҄ lT>D$* VNT7([b[o%=T*qǦY^Lեj7 f)y%Zֽ +V($mAa{~mW[t %BNITFr=~\?KJ*v|Ul1TIkٻ %= ]bIizmB`~RItك$EpBՐ$!=ܳLIg9a[ب Sҵx$maYҌh}OK:?Iw}E=~tV2>#vsAwn$ jtn$c!Ϊ>9˜&= $=J&\Ҫ\ԎvVBZZHֳZan'Ϊz8_#L"1AJt|EФ~ !n7Rk wq筂i#$FYX/?Ryfb?# N8r"LoY9 'Dr"@Nȉ9 'DӉ@<cKKXd#jtWI/3MX3^ G53ߚIs }u3i=~k)7#.w!nFB6#}B}B1B@r2u[{tDz}Q4L*㭭I)Uq[ks <;6bnFo >n9%ȡW/o{CY~7 !cҹFmB oAFp1rw voOw]ǻqqvz1,CpY]|B^Gfdrz,7~Y)&e> }uvy _:r;@xU濾a3U[~Yr/b0| /;wWiznuÚ~aq “ʏK(~߸] 6Ӿl_t\o1{# _ճ~1y rjEFgklyDFEFGFfkSSdQvyGFdk'idYvssdd3[k#wk&]!Egk>DF1[l/OfkN#5r Hw?DQαpDՂ)42e`yiqmxc=q7v?louշxPENt/*fVth!~pb:?nJ o-^A}ֆCNɂ}8<5/}xvB#;:&{ D'+y385 wz^QfKt|c7[^ׅ_uqnQ:9> ~׆2yL[`1ۓ dOWrv f-4sϷ+%b1 ̡y.ƃ 9ЊXA7|l5FHv{T{4 Qk̬珼aWֆa(,laW/<ėɽn#\o g(6 Pi_Bn+ .ϣ>Oȓ KW4*yfį$~XLvrK !:k(I&z!O`J}8<OtoQC++8['~o PGAٹǃ^xO3Z>ɜoޤ(78P: 00\D<9 K ݗkr Bsp {_^iw3;>u&ͥ1CUS;(5Os#;׹/* Wl~-Y)'6,W.%q/dvVIxOL[- j81I,lr1@&U_[+`~5si|83q۝/o 'cN⢒]_w7Π:e:)@T7Sϵyӽ*y*69wj\ۓDq/‡YevoI+4z莀ɹy7N'T%nw\}6{O 8H?8U3dJJ~BkguJYOxa~(c2Pmc'5H @jRXB @Z&A jhp]V;neD]@!" $}v#oj"HױHEsEYF)F!0ʒ`uvKh'&