Package: rat2302frmavecs Version: 0.99.11 Command: /home/biocbuild/bbs-3.21-bioc/R/bin/R CMD build --keep-empty-dirs --no-resave-data rat2302frmavecs StartedAt: 2025-02-12 06:32:13 -0500 (Wed, 12 Feb 2025) EndedAt: 2025-02-12 06:32:14 -0500 (Wed, 12 Feb 2025) EllapsedTime: 1.3 seconds RetCode: 1 Status: ERROR PackageFile: None PackageFileSize: NA