Package: org.Mxanthus.db Version: 1.0.27 Command: /home/biocbuild/bbs-3.21-bioc/R/bin/R CMD INSTALL org.Mxanthus.db StartedAt: 2025-02-12 06:30:09 -0500 (Wed, 12 Feb 2025) EndedAt: 2025-02-12 06:30:26 -0500 (Wed, 12 Feb 2025) EllapsedTime: 17.4 seconds RetCode: 0 Status: OK