Package: gwascatData Version: 0.99.6 Command: /home/biocbuild/bbs-3.21-bioc/R/bin/R CMD check --install=check:gwascatData.install-out.txt --library=/home/biocbuild/bbs-3.21-bioc/R/site-library --timings gwascatData_0.99.6.tar.gz StartedAt: 2025-04-30 06:33:57 -0400 (Wed, 30 Apr 2025) EndedAt: 2025-04-30 06:34:23 -0400 (Wed, 30 Apr 2025) EllapsedTime: 26.3 seconds RetCode: 1 Status: ERROR CheckDir: gwascatData.Rcheck Warnings: NA