Package: gwascatData Version: 0.99.6 Command: /home/biocbuild/bbs-3.21-bioc/R/bin/R CMD build --keep-empty-dirs --no-resave-data gwascatData StartedAt: 2025-04-30 06:31:36 -0400 (Wed, 30 Apr 2025) EndedAt: 2025-04-30 06:31:54 -0400 (Wed, 30 Apr 2025) EllapsedTime: 18.3 seconds RetCode: 0 Status: OK PackageFile: gwascatData_0.99.6.tar.gz PackageFileSize: 109.5 KiB