Package: geneplast.data Version: 0.99.9 Command: /home/biocbuild/bbs-3.21-bioc/R/bin/R CMD INSTALL geneplast.data StartedAt: 2025-02-05 06:30:20 -0500 (Wed, 05 Feb 2025) EndedAt: 2025-02-05 06:30:22 -0500 (Wed, 05 Feb 2025) EllapsedTime: 1.6 seconds RetCode: 0 Status: OK