Package: geneplast.data Version: 0.99.9 Command: /home/biocbuild/bbs-3.21-bioc/R/bin/R CMD check --install=check:geneplast.data.install-out.txt --library=/home/biocbuild/bbs-3.21-bioc/R/site-library --timings geneplast.data_0.99.9.tar.gz StartedAt: 2025-05-07 06:33:44 -0400 (Wed, 07 May 2025) EndedAt: 2025-05-07 06:34:51 -0400 (Wed, 07 May 2025) EllapsedTime: 66.4 seconds RetCode: 0 Status: OK CheckDir: geneplast.data.Rcheck Warnings: 0