Package: chromhmmData Version: 0.99.2 Command: /home/biocbuild/bbs-3.21-bioc/R/bin/R CMD build --keep-empty-dirs --no-resave-data chromhmmData StartedAt: 2025-04-30 06:31:11 -0400 (Wed, 30 Apr 2025) EndedAt: 2025-04-30 06:31:15 -0400 (Wed, 30 Apr 2025) EllapsedTime: 3.9 seconds RetCode: 0 Status: OK PackageFile: chromhmmData_0.99.2.tar.gz PackageFileSize: 12.48 MiB