Package: cadd.v1.6.hg19 Version: 3.18.1 Command: /home/biocbuild/bbs-3.21-bioc/R/bin/R CMD INSTALL cadd.v1.6.hg19 StartedAt: 2025-02-19 06:30:14 -0500 (Wed, 19 Feb 2025) EndedAt: 2025-02-19 06:30:32 -0500 (Wed, 19 Feb 2025) EllapsedTime: 17.4 seconds RetCode: 0 Status: OK