Package: cadd.v1.6.hg19 Version: 3.18.1 Command: /home/biocbuild/bbs-3.21-bioc/R/bin/R CMD build --keep-empty-dirs --no-resave-data cadd.v1.6.hg19 StartedAt: 2025-02-19 06:31:09 -0500 (Wed, 19 Feb 2025) EndedAt: 2025-02-19 06:32:39 -0500 (Wed, 19 Feb 2025) EllapsedTime: 90.1 seconds RetCode: 0 Status: OK PackageFile: cadd.v1.6.hg19_3.18.1.tar.gz PackageFileSize: 299.6 KiB