Package: alternativeSplicingEvents.hg38 Version: 1.1.0 Command: /home/biocbuild/bbs-3.21-bioc/R/bin/R CMD check --install=check:alternativeSplicingEvents.hg38.install-out.txt --library=/home/biocbuild/bbs-3.21-bioc/R/site-library --timings alternativeSplicingEvents.hg38_1.1.0.tar.gz StartedAt: 2025-02-05 06:33:36 -0500 (Wed, 05 Feb 2025) EndedAt: 2025-02-05 06:34:32 -0500 (Wed, 05 Feb 2025) EllapsedTime: 55.8 seconds RetCode: 0 Status: OK CheckDir: alternativeSplicingEvents.hg38.Rcheck Warnings: 0