Package: alternativeSplicingEvents.hg19 Version: 1.1.0 Command: /home/biocbuild/bbs-3.21-bioc/R/bin/R CMD INSTALL alternativeSplicingEvents.hg19 StartedAt: 2025-02-05 06:30:11 -0500 (Wed, 05 Feb 2025) EndedAt: 2025-02-05 06:30:21 -0500 (Wed, 05 Feb 2025) EllapsedTime: 9.9 seconds RetCode: 0 Status: OK