Package: UniProtKeywords Version: 0.99.7 Command: /home/biocbuild/bbs-3.21-bioc/R/bin/R CMD check --install=check:UniProtKeywords.install-out.txt --library=/home/biocbuild/bbs-3.21-bioc/R/site-library --timings UniProtKeywords_0.99.7.tar.gz StartedAt: 2025-02-12 06:35:23 -0500 (Wed, 12 Feb 2025) EndedAt: 2025-02-12 06:35:43 -0500 (Wed, 12 Feb 2025) EllapsedTime: 19.7 seconds RetCode: 0 Status: OK CheckDir: UniProtKeywords.Rcheck Warnings: 0