Package: TENET.AnnotationHub Version: 1.0.0 Command: /home/biocbuild/bbs-3.21-bioc/R/bin/R CMD check --install=check:TENET.AnnotationHub.install-out.txt --library=/home/biocbuild/bbs-3.21-bioc/R/site-library --timings TENET.AnnotationHub_1.0.0.tar.gz StartedAt: 2025-05-14 06:37:36 -0400 (Wed, 14 May 2025) EndedAt: 2025-05-14 06:39:25 -0400 (Wed, 14 May 2025) EllapsedTime: 108.8 seconds RetCode: 0 Status: OK CheckDir: TENET.AnnotationHub.Rcheck Warnings: 0