Package: TENET.AnnotationHub Version: 0.99.4 Command: /home/biocbuild/bbs-3.21-bioc/R/bin/R CMD build --keep-empty-dirs --no-resave-data TENET.AnnotationHub StartedAt: 2025-02-12 06:32:19 -0500 (Wed, 12 Feb 2025) EndedAt: 2025-02-12 06:33:18 -0500 (Wed, 12 Feb 2025) EllapsedTime: 59.2 seconds RetCode: 0 Status: OK PackageFile: TENET.AnnotationHub_0.99.4.tar.gz PackageFileSize: 346.7 KiB