Package: SomaScan.db Version: 0.99.10 Command: /home/biocbuild/bbs-3.21-bioc/R/bin/R CMD INSTALL SomaScan.db StartedAt: 2025-02-19 06:30:07 -0500 (Wed, 19 Feb 2025) EndedAt: 2025-02-19 06:30:20 -0500 (Wed, 19 Feb 2025) EllapsedTime: 12.7 seconds RetCode: 0 Status: OK