Package: SomaScan.db Version: 0.99.10 Command: /home/biocbuild/bbs-3.21-bioc/R/bin/R CMD build --keep-empty-dirs --no-resave-data SomaScan.db StartedAt: 2025-02-19 06:32:39 -0500 (Wed, 19 Feb 2025) EndedAt: 2025-02-19 06:33:28 -0500 (Wed, 19 Feb 2025) EllapsedTime: 48.8 seconds RetCode: 0 Status: OK PackageFile: SomaScan.db_0.99.10.tar.gz PackageFileSize: 2.131 MiB