Package: PANTHER.db Version: 1.0.12 Command: /home/biocbuild/bbs-3.21-bioc/R/bin/R CMD INSTALL PANTHER.db StartedAt: 2025-04-30 06:30:19 -0400 (Wed, 30 Apr 2025) EndedAt: 2025-04-30 06:30:37 -0400 (Wed, 30 Apr 2025) EllapsedTime: 18.2 seconds RetCode: 0 Status: OK