Package: MPO.db Version: 0.99.8 Command: /home/biocbuild/bbs-3.21-bioc/R/bin/R CMD INSTALL MPO.db StartedAt: 2025-02-12 06:30:18 -0500 (Wed, 12 Feb 2025) EndedAt: 2025-02-12 06:30:41 -0500 (Wed, 12 Feb 2025) EllapsedTime: 23.4 seconds RetCode: 0 Status: OK