Package: MPO.db Version: 0.99.8 Command: /home/biocbuild/bbs-3.21-bioc/R/bin/R CMD check --install=check:MPO.db.install-out.txt --library=/home/biocbuild/bbs-3.21-bioc/R/site-library --timings MPO.db_0.99.8.tar.gz StartedAt: 2025-02-12 06:34:31 -0500 (Wed, 12 Feb 2025) EndedAt: 2025-02-12 06:40:09 -0500 (Wed, 12 Feb 2025) EllapsedTime: 338.8 seconds RetCode: 0 Status: OK CheckDir: MPO.db.Rcheck Warnings: 0