Package: JASPAR2024 Version: 0.99.7 Command: /home/biocbuild/bbs-3.21-bioc/R/bin/R CMD INSTALL JASPAR2024 StartedAt: 2025-02-12 06:30:10 -0500 (Wed, 12 Feb 2025) EndedAt: 2025-02-12 06:30:15 -0500 (Wed, 12 Feb 2025) EllapsedTime: 4.6 seconds RetCode: 0 Status: OK