Package: JASPAR2024 Version: 0.99.7 Command: /home/biocbuild/bbs-3.21-bioc/R/bin/R CMD check --install=check:JASPAR2024.install-out.txt --library=/home/biocbuild/bbs-3.21-bioc/R/site-library --timings JASPAR2024_0.99.7.tar.gz StartedAt: 2025-02-12 06:34:27 -0500 (Wed, 12 Feb 2025) EndedAt: 2025-02-12 06:35:03 -0500 (Wed, 12 Feb 2025) EllapsedTime: 35.5 seconds RetCode: 0 Status: OK CheckDir: JASPAR2024.Rcheck Warnings: 0